BEGIN:VCALENDAR
VERSION:2.0
PRODID:-//edpsy.org.uk - ECPv6.15.17//NONSGML v1.0//EN
CALSCALE:GREGORIAN
METHOD:PUBLISH
X-WR-CALNAME:edpsy.org.uk
X-ORIGINAL-URL:https://edpsy.org.uk
X-WR-CALDESC:Events for edpsy.org.uk
REFRESH-INTERVAL;VALUE=DURATION:PT1H
X-Robots-Tag:noindex
X-PUBLISHED-TTL:PT1H
BEGIN:VTIMEZONE
TZID:UTC
BEGIN:STANDARD
TZOFFSETFROM:+0000
TZOFFSETTO:+0000
TZNAME:UTC
DTSTART:20180101T000000
END:STANDARD
END:VTIMEZONE
BEGIN:VEVENT
DTSTART;TZID=UTC:20190128T090000
DTEND;TZID=UTC:20190201T170000
DTSTAMP:20260424T063855
CREATED:20180828T080942Z
LAST-MODIFIED:20180828T080942Z
UID:1456-1548666000-1549040400@edpsy.org.uk
SUMMARY:Thrive Approach Immersive Pathway (childhood years)
DESCRIPTION:A 5 day course for therapists and educational psychologists who have counselling experience within the education sector\, but no previous knowledge of the Thrive Approach; a prerequisite for applying for the Thrive Trainers course. \nThe course will build on your prior knowledge of: the development and functioning of the brain and nervous system\, the principles of attachment theory\, key strategies for building supportive relationships\, the role of the arts\, play and creativity in supporting social and emotional development.
URL:https://edpsy.org.uk/event/thrive-approach-immersive-pathway-childhood-years-01-19/
LOCATION:Hannah’s at Seale-Hayne Campus\, Howton Road\, Newton Abbot\, Devon\, TQ12 6NQ\, United Kingdom
CATEGORIES:Training
ORGANIZER;CN="The Thrive Approach":MAILTO:enquiries@thriveapproach.com
END:VEVENT
BEGIN:VEVENT
DTSTART;TZID=UTC:20190208T090000
DTEND;TZID=UTC:20190208T160000
DTSTAMP:20260424T063855
CREATED:20181109T124747Z
LAST-MODIFIED:20181109T124747Z
UID:1620-1549616400-1549641600@edpsy.org.uk
SUMMARY:Educational Psychology Services involvement in delivering therapeutic interventions: sharing the practicalities
DESCRIPTION:This day conference is for Educational Psychologists (EPs) and Educational Psychology Services (EPSs) to share good practice in delivering therapeutic interventions. It is a joint event planned together with NAPEP. \nEPSs from a range of settings (Devon\, Bristol\, Enfield & Blackburn and Darwin) will present their\nexperiences\, including their approaches to commissioning\, the practicalities of delivery and their evaluation findings. The recently produced DECP Commissioning and revised Ethical Trading documents will be available\, as well as the DECP Delivering Psychological Therapies in Schools and Communities. \nLearning outcomes and objectives\n\nTo share good practice in delivering therapeutic interventions in schools and communities.\nTo hear about the experiences of commissioning therapeutic interventions in a range of settings\nTo share evaluation findings of EPSs delivering therapeutic initiatives\nTo reflect on the relevance of the DECP documents on: Commissioning; Ethical Trading & Delivering Psychological Therapies in Schools and Communities.
URL:https://edpsy.org.uk/event/educational-psychology-services-involvement-in-delivering-therapeutic-interventions-sharing-the-practicalities-02-19/
LOCATION:BPS London Office\, 30 Tabernacle Street\, London\, EC2A 4UE\, United Kingdom
CATEGORIES:Conference
ORGANIZER;CN="BPS Division of Educational and Child Psychology":MAILTO:bps@kc-jones.co.uk  
END:VEVENT
END:VCALENDAR