BEGIN:VCALENDAR
VERSION:2.0
PRODID:-//edpsy.org.uk - ECPv6.15.17//NONSGML v1.0//EN
CALSCALE:GREGORIAN
METHOD:PUBLISH
X-ORIGINAL-URL:https://edpsy.org.uk
X-WR-CALDESC:Events for edpsy.org.uk
REFRESH-INTERVAL;VALUE=DURATION:PT1H
X-Robots-Tag:noindex
X-PUBLISHED-TTL:PT1H
BEGIN:VTIMEZONE
TZID:UTC
BEGIN:STANDARD
TZOFFSETFROM:+0000
TZOFFSETTO:+0000
TZNAME:UTC
DTSTART:20180101T000000
END:STANDARD
END:VTIMEZONE
BEGIN:VEVENT
DTSTART;TZID=UTC:20190401T093000
DTEND;TZID=UTC:20190401T170000
DTSTAMP:20260424T035056
CREATED:20190221T084153Z
LAST-MODIFIED:20190221T084153Z
UID:1761-1554111000-1554138000@edpsy.org.uk
SUMMARY:CAMHS National Summit 2019: Improving accessibility and recovery outcomes
DESCRIPTION:Cost excludes VAT \nThe 2019 Annual Child and Adolescent Mental Health Summit will focus on the important issue of transforming CAMHS service; improving accessibility and recovery outcomes. Panel Members Include: Dr Bernadka Dubicka Chair\, Faculty of Child and Adolescent Psychiatry\, Royal College of Psychiatrists. \nFollow the conference on Twitter #CAMHS2019 \nA 20% discount is available by quoting ref: HCUK20EDPSY when booking.(*Cannot be used in conjunction with any other offer.  Full T&Cs available upon request.)
URL:https://edpsy.org.uk/event/camhs-national-summit-2019-improving-accessibility-and-recovery-outcomes-04-19/
LOCATION:De Vere West One Conference Centre\, 9-10 Portland Place\, London\, W1B 1PR\, United Kingdom
ORGANIZER;CN="HCUK":MAILTO:info@hc-uk.org.uk
END:VEVENT
BEGIN:VEVENT
DTSTART;TZID=UTC:20190402T090000
DTEND;TZID=UTC:20190402T170000
DTSTAMP:20260424T035056
CREATED:20190324T093711Z
LAST-MODIFIED:20190324T093711Z
UID:1780-1554195600-1554224400@edpsy.org.uk
SUMMARY:Gender diversity: What do educational psychologists need to know and what can they do?
DESCRIPTION:A major emphasis in the work of educational psychologists is on inclusion and how psychology can contribute to inclusive educational policies and practices. Across the last decade awareness has grown that educational psychologists need to embrace a broader conceptualisation of inclusion. While traditionally inclusion has focused on special educational needs and disabilities\, and ethnicity\, the increase in children and young people questioning their gender identity means that EPs need to consider the implications of gender inclusion and gender inclusive practices. This day is designed to examine thinking and practice about gender diversity and gender inclusion\, the implications for EP work and\, particularly\, what EPs can do to support staff in educational settings that may be uncertain about how best to act.
URL:https://edpsy.org.uk/event/gender-diversity-what-do-educational-psychologists-need-to-know-and-what-can-they-do-04-19/
LOCATION:Lower Ground Lecture Theatre\, 26 Bedford Way\, Bloomsbury\, London\, WC1H 0AP\, United Kingdom
CATEGORIES:Conference
ORGANIZER;CN="UCL Educational Psychology Group":MAILTO:edadmin@ucl.ac.uk
END:VEVENT
BEGIN:VEVENT
DTSTART;TZID=UTC:20190406T090000
DTEND;TZID=UTC:20190412T130000
DTSTAMP:20260424T035056
CREATED:20180813T132152Z
LAST-MODIFIED:20180813T132152Z
UID:1423-1554541200-1555074000@edpsy.org.uk
SUMMARY:Orkney residential initial training course in Video Interaction Guidance (VIG)
DESCRIPTION:Prices vary according to accommodation selected. \n5th Orkney residential initial training course (ITC) in Video Interaction Guidance (VIG)\, an evidence-based therapeutic intervention for bringing about change in relationships – in families\, schools\, residential settings etc. All-inclusive accommodation\, all meals home cooked using local produce\, single or shared rooms in beautifully restored seafront house in Stromness\, Orkney’s prettiest port. The week delivers the AVIGuk-accredited ITC (following which trainees go on to supervised practice)\, including plentiful free time to explore Orkney’s rich nature\, culture and world-class heritage sites.
URL:https://edpsy.org.uk/event/orkney-residential-initial-training-course-in-video-interaction-guidance-vig-04-19/
LOCATION:Merchants House / Fishermans Cottage\, 20-24 Alfred Street\,\, Stromness\, Scotland\, KW16 3DF\, United Kingdom
CATEGORIES:Training
ORGANIZER;CN="Miriam Landor":MAILTO:miriam@vigorkney.co.uk
END:VEVENT
BEGIN:VEVENT
DTSTART;TZID=UTC:20190415T123000
DTEND;TZID=UTC:20190415T143000
DTSTAMP:20260424T035056
CREATED:20190213T172116Z
LAST-MODIFIED:20190213T172116Z
UID:1749-1555331400-1555338600@edpsy.org.uk
SUMMARY:Midlands dynamic assessment interest group meet-up
DESCRIPTION:First meeting of the Midlands dynamic assessment interest group. \nThe frequency and venues of future meetings will be agreed at this event.
URL:https://edpsy.org.uk/event/midlands-dynamic-assessment-interest-group-meet-up-04-19/
LOCATION:David Llyod Centre\, Pensnett Road\, Brierly Hill\, Dudley\, DY5 3YP
CATEGORIES:Networking,Workshop
ORGANIZER;CN="Jane Yeomans":MAILTO:jandmyeomans@gmail.com
END:VEVENT
END:VCALENDAR