BEGIN:VCALENDAR
VERSION:2.0
PRODID:-//edpsy.org.uk - ECPv6.15.17//NONSGML v1.0//EN
CALSCALE:GREGORIAN
METHOD:PUBLISH
X-WR-CALNAME:edpsy.org.uk
X-ORIGINAL-URL:https://edpsy.org.uk
X-WR-CALDESC:Events for edpsy.org.uk
REFRESH-INTERVAL;VALUE=DURATION:PT1H
X-Robots-Tag:noindex
X-PUBLISHED-TTL:PT1H
BEGIN:VTIMEZONE
TZID:UTC
BEGIN:STANDARD
TZOFFSETFROM:+0000
TZOFFSETTO:+0000
TZNAME:UTC
DTSTART:20180101T000000
END:STANDARD
END:VTIMEZONE
BEGIN:VEVENT
DTSTART;TZID=UTC:20190607T093000
DTEND;TZID=UTC:20190607T163000
DTSTAMP:20260424T010119
CREATED:20180911T102757Z
LAST-MODIFIED:20180911T102757Z
UID:1486-1559899800-1559925000@edpsy.org.uk
SUMMARY:APS workshop: Coaching for resilience
DESCRIPTION:Learn psychology-informed coaching methods/tools that can be used to support adult resilience and wellbeing.
URL:https://edpsy.org.uk/event/aps-workshop-coaching-for-resilience-06-19/
LOCATION:Novotel Hotel\, Victoria Street\, Bristol\, BS1 6HY\, United Kingdom
CATEGORIES:Workshop
ORGANIZER;CN="Mark Adams":MAILTO:mark@aspenpsychologyservices.co.uk
END:VEVENT
BEGIN:VEVENT
DTSTART;TZID=UTC:20190610T090000
DTEND;TZID=UTC:20190610T173000
DTSTAMP:20260424T010119
CREATED:20190515T113128Z
LAST-MODIFIED:20190515T113128Z
UID:1902-1560157200-1560187800@edpsy.org.uk
SUMMARY:Love Vs Trauma:  The frontiers of healing childhood trauma- a symposium
DESCRIPTION:£175.00 – £215.00 \nLove vs Trauma\, a day-long symposium of talks and performances by world class neuroscientists\, cutting-edge therapists\, creative artists and brave storytellers shining a light on childhood trauma. \nThis momentous event will bring dialogue\, creativity and connection to one of the most important public health issues of our time: childhood trauma and Adverse Childhood Experiences (ACE). The day will enable an exploration and deeper understanding of neurobiology\, cutting-edge creative interventions to the importance of community\, connection and the power of love to heal. \nAt the heart of this event lies the urgency to prevent people from dying prematurely because of adverse experiences in their childhood. An adult who before his/her 18th birthday experienced physical and emotional abuse\, bullying and family disruption is more likely to experience heart disease\, depression\, suicidal ideation and die 20 years earlier than his or her peers. \nCPD (7hrs Certificates Awarded at event) \nDiscount available for group bookings of 5 or more! Please contact kara@bodyandsoulcharity.org
URL:https://edpsy.org.uk/event/love-vs-trauma-the-frontiers-of-healing-childhood-trauma-a-symposium-06-19/
LOCATION:Barbican Centre\, Silk Street\, London\, London\, EC2Y 8DS\, United Kingdom
CATEGORIES:Conference
ORGANIZER;CN="Body & Soul Charity":MAILTO:kara@bodyandsoulcharity.org
END:VEVENT
BEGIN:VEVENT
DTSTART;TZID=UTC:20190610T100000
DTEND;TZID=UTC:20190610T170000
DTSTAMP:20260424T010119
CREATED:20190324T093245Z
LAST-MODIFIED:20190324T093245Z
UID:1778-1560160800-1560186000@edpsy.org.uk
SUMMARY:Sexual abuse & mental health - reducing the impact of abuse on mental health
DESCRIPTION:Cost plus VAT \nFollowing the 2018 government commitment to ensuring victims of sexual abuse will receive a lifetime of mental health care to cope with the trauma\, this conference focuses on the important issue of sexual abuse and mental health; reducing the impact of abuse on mental health.  \nFollow this conference on Twitter #sexualabuse #CSAandMH  \nA 20% discount is available by quoting ref: HCUK20EDPSY when booking.(*Cannot be used in conjunction with any other offer.  Full T&Cs available upon request.)
URL:https://edpsy.org.uk/event/sexual-abuse-mental-health-reducing-the-impact-of-abuse-on-mental-health-06-19/
LOCATION:De Vere West One Conference Centre\, 9-10 Portland Place\, London\, W1B 1PR\, United Kingdom
CATEGORIES:Conference
ORGANIZER;CN="HCUK":MAILTO:info@hc-uk.org.uk
END:VEVENT
BEGIN:VEVENT
DTSTART;TZID=UTC:20190611T163000
DTEND;TZID=UTC:20190611T180000
DTSTAMP:20260424T010119
CREATED:20190111T134129Z
LAST-MODIFIED:20190111T134129Z
UID:1683-1560270600-1560276000@edpsy.org.uk
SUMMARY:Interested in becoming an Educational Psychologist?
DESCRIPTION:An Educational Psychologist and a Trainee Educational Psychologist from Cornwall Educational Psychology Service will be leading this friendly and relaxed open session exploring what the job entails\, the training route and current key issues for Educational Psychologists in their work with schools.
URL:https://edpsy.org.uk/event/interested-in-becoming-an-educational-psychologist-06-19/
LOCATION:Nanpean C.P. School\, St George's Road\, St Austell\, Cornwall\, PL26 7YH\, United Kingdom
CATEGORIES:Networking
ORGANIZER;CN="Cornwall Educational Psychology Service (Kate Horrill)":MAILTO:khorrill@cornwall.gov.uk
END:VEVENT
BEGIN:VEVENT
DTSTART;TZID=UTC:20190612T140000
DTEND;TZID=UTC:20190612T160000
DTSTAMP:20260424T010119
CREATED:20190524T064214Z
LAST-MODIFIED:20190524T065709Z
UID:1912-1560348000-1560355200@edpsy.org.uk
SUMMARY:Dynamic Assessment interest group
DESCRIPTION:An opportunity for Educational Psychologists to share expertise and knowledge to develop their practice with DA.
URL:https://edpsy.org.uk/event/dynamic-assessment-interest-group-06-19/
LOCATION:Brent Civic Centre\, 32 Engineers Way\, Wembley\, London\, HA9 0FJ\, United Kingdom
ORGANIZER;CN="Rachel Green":MAILTO:rachael@head-ways.co.uk
END:VEVENT
BEGIN:VEVENT
DTSTART;TZID=UTC:20190614T090000
DTEND;TZID=UTC:20190614T170000
DTSTAMP:20260424T010119
CREATED:20190210T111507Z
LAST-MODIFIED:20190210T111507Z
UID:1740-1560502800-1560531600@edpsy.org.uk
SUMMARY:"A Disorder for Everyone!" - Challenging the culture of psychiatric diagnosis
DESCRIPTION:Prices range from £0- £127.45 \nThis day is for anyone who is interested in and concerned about the current debates in ‘mental health.’ \nIt provides a space to explore the critical questions of the day around the biomedical model and the narrative of ‘diagnosis and disorder!’ \nAttendees from past AD4E events have included people who identify as the following :- \npeople with lived experience of emotional distress\, supporters of people with lived experience\, survivors\, psychologists\, journalists\, activists\, counsellors & psychotherapists\, service users\, service refusers\, students & trainees\, mental health support professionals\, psychiatrists\, managers\, academics\, researchers\, and individuals with a general personal interest.  \nAbout the day \nThe event features not just professionals but people from a diverse range of backgrounds who have an essential contribution to make to the debate. \nLucy Johnstone presents the current debates and controversies about psychiatric diagnosis. It is increasingly acknowledged\, even within the mental health establishment\, that categories like ‘schizophrenia’\, ‘bipolar disorder’ and ‘personality disorder’ lack validity. The assumption that distress is best understood as disease can have very serious consequences for the individual\, their identity\, and their path to recovery. In the morning Lucy will present alternatives to diagnosis which can help people to make sense of experiences of distress\, however extreme\, and which are based on working together to explore personal meaning. In the afternoon Lucy will introduce participants to the Power Threat Meaning Framework
URL:https://edpsy.org.uk/event/a-disorder-for-everyone-challenging-the-culture-of-psychiatric-diagnosis-06-19/
LOCATION:The University of Wolverhampton\, Wolverhampton\, WV1 1LY\, United Kingdom
CATEGORIES:Seminar
END:VEVENT
BEGIN:VEVENT
DTSTART;TZID=UTC:20190626T090000
DTEND;TZID=UTC:20190628T163000
DTSTAMP:20260424T010119
CREATED:20190221T084643Z
LAST-MODIFIED:20190221T084643Z
UID:1763-1561539600-1561739400@edpsy.org.uk
SUMMARY:Professionals CBITS training
DESCRIPTION:Early bird £275 after 6th June £325 \nThe charity Tourettes Action offer therapists subsidised specialist training in Behavioural Treatment for Tics (CBIT) which is used for children and adults with tics and Tourettes Syndrome (TS). Tourettes Action recognise that there is a critical shortage of trained therapists for people with tics and TS and in order to address this has embarked on this not-for-profit training initiative. \nThe training will include training videos\, on site practicing\, and take-home treatment manuals and certificate of attendance and CPD points for attendees. Included in the training is the possibility for one session of consultation via telemedicine to help clinical practice.
URL:https://edpsy.org.uk/event/professionals-cbits-training/
LOCATION:To be confimed\, London\, United Kingdom
ORGANIZER;CN="Tourettes Action":MAILTO:Seonaid@tourettes-action.org.uk
END:VEVENT
END:VCALENDAR