BEGIN:VCALENDAR
VERSION:2.0
PRODID:-//edpsy.org.uk - ECPv6.15.17//NONSGML v1.0//EN
CALSCALE:GREGORIAN
METHOD:PUBLISH
X-WR-CALNAME:edpsy.org.uk
X-ORIGINAL-URL:https://edpsy.org.uk
X-WR-CALDESC:Events for edpsy.org.uk
REFRESH-INTERVAL;VALUE=DURATION:PT1H
X-Robots-Tag:noindex
X-PUBLISHED-TTL:PT1H
BEGIN:VTIMEZONE
TZID:UTC
BEGIN:STANDARD
TZOFFSETFROM:+0000
TZOFFSETTO:+0000
TZNAME:UTC
DTSTART:20180101T000000
END:STANDARD
END:VTIMEZONE
BEGIN:VEVENT
DTSTART;TZID=UTC:20191202T100000
DTEND;TZID=UTC:20191202T160000
DTSTAMP:20260423T160824
CREATED:20191121T151614Z
LAST-MODIFIED:20191121T151614Z
UID:2139-1575280800-1575302400@edpsy.org.uk
SUMMARY:How Monsters Wish to Feel: Nurturing resilience in vulnerable children
DESCRIPTION:Cost plus Eventbrite fee \nThis interactive training workshop will enable attendees to gain an understanding of how to nurture the resilience of vulnerable children.  The course will cover:  definitions of resilience\, why resilience is so important\, the science of resilience\, and how resilience is built. \nJuliette will discuss the main ideas from her book ‘Nurturing Emotional Resilience in Vulnerable Children and Young People: A Practical Guide’. Participants will learn the key protective factors that mitigate risk and promote resilience.\nJuliette will also share her children’s book ‘How Monsters Wish to Feel’\, which is a story about emotional resilience that can be used with children or young people as part of a therapeutic or emotional literacy intervention.\nJoin Juliette on a journey over the ‘Resiliency Rainbow’ to discover how the masked Monsters in her story wish to feel and the barriers they face…\nBoth the guidebook and the story allude to the importance of focusing on the strengths and protective factors in a child’s life\, rather than problems and risks\, in order to promote their emotional resilience.
URL:https://edpsy.org.uk/event/how-monsters-wish-to-feel-nurturing-resilience-in-vulnerable-children-02-12/
LOCATION:The Octavia Room\, The Exchange\, Brick Row\, Stroud\, Gloucestershire\, GL5 1DF\, United Kingdom
CATEGORIES:Training
ORGANIZER;CN="Juliette Ttofa":MAILTO:jttofa@icloud.com
END:VEVENT
BEGIN:VEVENT
DTSTART;TZID=UTC:20191209T093000
DTEND;TZID=UTC:20191209T170000
DTSTAMP:20260423T160824
CREATED:20190917T104146Z
LAST-MODIFIED:20190917T104146Z
UID:2043-1575883800-1575910800@edpsy.org.uk
SUMMARY:Preventing suicide\, saving lives: Suicide prevention implementing the 2019 National Quality Standard
DESCRIPTION:Cost plus VAT \nThis conference focuses on implementing the National Quality Standard for Suicide Prevention which is currently in consultation and due to be published in September 2019. \nFollow the conversation on Twitter #PreventingSuicide \nA 20% discount is available by quoting code hcuk20EDPSY when booking. (*Cannot be used in conjunction with any other offer.  Full T&Cs available upon request.).
URL:https://edpsy.org.uk/event/preventing-suicide-saving-lives-suicide-prevention-implementing-the-2019-national-quality-standard-12-19/
LOCATION:De Vere West One Conference Centre\, 9-10 Portland Place\, London\, W1B 1PR\, United Kingdom
CATEGORIES:Conference
ORGANIZER;CN="HCUK":MAILTO:info@hc-uk.org.uk
END:VEVENT
END:VCALENDAR