BEGIN:VCALENDAR
VERSION:2.0
PRODID:-//edpsy.org.uk - ECPv6.15.17//NONSGML v1.0//EN
CALSCALE:GREGORIAN
METHOD:PUBLISH
X-WR-CALNAME:edpsy.org.uk
X-ORIGINAL-URL:https://edpsy.org.uk
X-WR-CALDESC:Events for edpsy.org.uk
REFRESH-INTERVAL;VALUE=DURATION:PT1H
X-Robots-Tag:noindex
X-PUBLISHED-TTL:PT1H
BEGIN:VTIMEZONE
TZID:Europe/London
BEGIN:DAYLIGHT
TZOFFSETFROM:+0000
TZOFFSETTO:+0100
TZNAME:BST
DTSTART:20200329T010000
END:DAYLIGHT
BEGIN:STANDARD
TZOFFSETFROM:+0100
TZOFFSETTO:+0000
TZNAME:GMT
DTSTART:20201025T010000
END:STANDARD
BEGIN:DAYLIGHT
TZOFFSETFROM:+0000
TZOFFSETTO:+0100
TZNAME:BST
DTSTART:20210328T010000
END:DAYLIGHT
BEGIN:STANDARD
TZOFFSETFROM:+0100
TZOFFSETTO:+0000
TZNAME:GMT
DTSTART:20211031T010000
END:STANDARD
BEGIN:DAYLIGHT
TZOFFSETFROM:+0000
TZOFFSETTO:+0100
TZNAME:BST
DTSTART:20220327T010000
END:DAYLIGHT
BEGIN:STANDARD
TZOFFSETFROM:+0100
TZOFFSETTO:+0000
TZNAME:GMT
DTSTART:20221030T010000
END:STANDARD
END:VTIMEZONE
BEGIN:VEVENT
DTSTART;TZID=Europe/London:20210701T160000
DTEND;TZID=Europe/London:20210701T163000
DTSTAMP:20260422T113044
CREATED:20210617T152035Z
LAST-MODIFIED:20210617T152035Z
UID:3798-1625155200-1625157000@edpsy.org.uk
SUMMARY:Attachment and the right brain with Dr Nicole Schnackenberg
DESCRIPTION:In this webinar we will consider the importance of the right hemisphere in understanding the attachment relationship. We will think about how we can use this knowledge to support the building of secure attachments within the primary attachment relationship and beyond.
URL:https://edpsy.org.uk/event/attachment-and-the-right-brain-with-dr-nicole-schnackenberg-07-21/
LOCATION:...
CATEGORIES:Webinar
ORGANIZER;CN="Southend EPS":MAILTO:sarahsivers@southend.gov.uk
END:VEVENT
BEGIN:VEVENT
DTSTART;TZID=Europe/London:20210703T094500
DTEND;TZID=Europe/London:20210703T110000
DTSTAMP:20260422T113044
CREATED:20210513T124852Z
LAST-MODIFIED:20210513T124852Z
UID:3651-1625305500-1625310000@edpsy.org.uk
SUMMARY:Education Futures in Action: Introduction
DESCRIPTION:Education Futures in Action is a partnership between States of Mind and the Institute of Education\, University College London. Our July conference will show how the English education system impacts young people and present actionable alternatives to the educational status quo.  \nTalks will be led by a range of education innovators from home and abroad\, including young people\, teachers\, academics and other change makers. Some are innovating within the current school system\, others are re-envisioning and enacting ways of educating that promote consent\, democracy\, self-determination and the celebration of diversity. Evidence is clear: the English education system is underpinned by ideologies that promote coercion\, standardisation and segregation. This conference will show how it is possible to do things differently.  \nFrom Autumn 2021\, States of Mind will be chairing a regular Education Futures roundtable\, with the aim of drawing together practitioners with the knowledge\, skills and experience to co-create an alternative future for education. Please join us for the July conference and take part in this movement.
URL:https://edpsy.org.uk/event/education-futures-in-action-07-21/
LOCATION:...
CATEGORIES:Conference,Webinar
ORGANIZER;CN="States of Mind and The Institute of Education%2C UCL":MAILTO:info@statesofmind.org
END:VEVENT
BEGIN:VEVENT
DTSTART;TZID=Europe/London:20210704T100000
DTEND;TZID=Europe/London:20210704T110000
DTSTAMP:20260422T113044
CREATED:20210513T125135Z
LAST-MODIFIED:20210513T125135Z
UID:3654-1625392800-1625396400@edpsy.org.uk
SUMMARY:Education Futures in Action: Changemakers
DESCRIPTION:Education Futures in Action is a partnership between States of Mind and the Institute of Education\, University College London. Our July conference will show how the English education system impacts young people and present actionable alternatives to the educational status quo.  \nTalks will be led by a range of education innovators from home and abroad\, including young people\, teachers\, academics and other change makers. Some are innovating within the current school system\, others are re-envisioning and enacting ways of educating that promote consent\, democracy\, self-determination and the celebration of diversity. Evidence is clear: the English education system is underpinned by ideologies that promote coercion\, standardisation and segregation. This conference will show how it is possible to do things differently.  \nFrom Autumn 2021\, States of Mind will be chairing a regular Education Futures roundtable\, with the aim of drawing together practitioners with the knowledge\, skills and experience to co-create an alternative future for education. Please join us for the July conference and take part in this movement.
URL:https://edpsy.org.uk/event/education-futures-in-action-changemakers-07-21/
LOCATION:...
CATEGORIES:Conference,Webinar
ORGANIZER;CN="States of Mind and The Institute of Education%2C UCL":MAILTO:info@statesofmind.org
END:VEVENT
BEGIN:VEVENT
DTSTART;TZID=Europe/London:20210704T143000
DTEND;TZID=Europe/London:20210704T153000
DTSTAMP:20260422T113044
CREATED:20210513T125341Z
LAST-MODIFIED:20210513T125341Z
UID:3656-1625409000-1625412600@edpsy.org.uk
SUMMARY:Education Futures in Action: Scherto Gill
DESCRIPTION:Education Futures in Action is a partnership between States of Mind and the Institute of Education\, University College London. Our July conference will show how the English education system impacts young people and present actionable alternatives to the educational status quo.  \nTalks will be led by a range of education innovators from home and abroad\, including young people\, teachers\, academics and other change makers. Some are innovating within the current school system\, others are re-envisioning and enacting ways of educating that promote consent\, democracy\, self-determination and the celebration of diversity. Evidence is clear: the English education system is underpinned by ideologies that promote coercion\, standardisation and segregation. This conference will show how it is possible to do things differently.  \nFrom Autumn 2021\, States of Mind will be chairing a regular Education Futures roundtable\, with the aim of drawing together practitioners with the knowledge\, skills and experience to co-create an alternative future for education. Please join us for the July conference and take part in this movement.
URL:https://edpsy.org.uk/event/education-futures-in-action-scherto-gill-07-21/
LOCATION:...
CATEGORIES:Conference,Webinar
ORGANIZER;CN="States of Mind and The Institute of Education%2C UCL":MAILTO:info@statesofmind.org
END:VEVENT
BEGIN:VEVENT
DTSTART;TZID=Europe/London:20210710T100000
DTEND;TZID=Europe/London:20210710T172000
DTSTAMP:20260422T113044
CREATED:20210615T152918Z
LAST-MODIFIED:20210615T152918Z
UID:3788-1625911200-1625937600@edpsy.org.uk
SUMMARY:International psychology student conference
DESCRIPTION:The Student Committee is organising the first BPS International Psychology Student Conference. This is an opportunity for psychology students all across the world to connect. We welcome psychology students from every country to join us but also postgraduate students\, young professionals or those interested in pursuing psychology as a career. We strongly believe that our speakers’ panel will offer you valuable insight and contribute towards your Continuing Professional Development. The theme for the 1st International Psychology Student Conference is Equality and Inclusion\, Connections in an International Context. \nParticipants will have the opportunity to hear from well-established professionals who will talk about their expertise and international experience and explore their take on what it means to “connect” and promote equality and inclusion. The topics discussed will focus on the importance of language\, neurodiversity\, LGBTQ+\, bullying\, and education’s role towards a positive impact.
URL:https://edpsy.org.uk/event/international-psychology-student-conference-07-21/
LOCATION:Online training
CATEGORIES:Conference,Webinar
ORGANIZER;CN="BPS Student Committee":MAILTO:smg@kc-jones.co.uk
END:VEVENT
BEGIN:VEVENT
DTSTART;TZID=Europe/London:20210712T090000
DTEND;TZID=Europe/London:20210712T160000
DTSTAMP:20260422T113044
CREATED:20210617T074635Z
LAST-MODIFIED:20210617T074635Z
UID:3793-1626080400-1626105600@edpsy.org.uk
SUMMARY:EBSA Horizons: Emotional Based School Avoidance CPD course for educational psychologists
DESCRIPTION:The EBSA Horizon online course for Educational Psychologist\, seeks to continue to build on the shift in the narrative\, moving away from the language of school refusal\, and to present an alternative model of EBSA\, in which the child’s voice is at the heart of assessment and intervention\, and emphasis is placed on understanding EBSA in the context of interacting\, child\, home and school-based factors.
URL:https://edpsy.org.uk/event/ebsa-horizons-emotional-based-school-avoidance-cpd-course-for-educational-psychologists-07-21/
LOCATION:Online training
CATEGORIES:Webinar
ORGANIZER;CN="EdPsychEd":MAILTO:info@edpsyched.co.uk
END:VEVENT
BEGIN:VEVENT
DTSTART;TZID=Europe/London:20210713T090000
DTEND;TZID=Europe/London:20210713T170000
DTSTAMP:20260422T113044
CREATED:20210625T080411Z
LAST-MODIFIED:20210625T080411Z
UID:3800-1626166800-1626195600@edpsy.org.uk
SUMMARY:UCL DEdPsy Leading Edge Day 2021 : Equality\, diversity and inclusion; working towards anti-racist EP practice
DESCRIPTION:In March 2020\, the world as we knew it changed. The death of George Floyd triggered widespread reflection\, and action in recognition of structural racism across our society. March also saw the UK’s first national lockdown as a result of the Covid-19 pandemic which\, in turn\, brought into sharp focus the social inequalities present in our society (Marmot et al.\, 2010\, 2020). Since then\, debates have been ongoing across international contexts\, across professions\, within psychology and within educational psychology regarding where we are and where we want and need to be in the future. This online conference will contribute to debates already ongoing around racism and ethnicity in educational psychology and will provide participants with a chance to hear about theory and research and to focus on challenges\, as well as future directions. In addition\, in the afternoon participants will be able to attend two workshops out of a choice of four presented by educational psychologists engaged in research and practice in this area.
URL:https://edpsy.org.uk/event/ucl-dedpsy-leading-edge-day-2021-equality-diversity-and-inclusion-working-towards-anti-racist-ep-practice-07-21/
LOCATION:...
CATEGORIES:Conference,Webinar
ORGANIZER;CN="UCL Educational Psychology Group":MAILTO:edadmin@ucl.ac.uk
END:VEVENT
BEGIN:VEVENT
DTSTART;TZID=Europe/London:20210713T100000
DTEND;TZID=Europe/London:20210713T170000
DTSTAMP:20260422T113044
CREATED:20210611T145809Z
LAST-MODIFIED:20210611T145809Z
UID:3770-1626170400-1626195600@edpsy.org.uk
SUMMARY:Safeguarding adolescents and young adults: Delivering a strengths-based approach
DESCRIPTION:We are pleased to announce National Safeguarding Adolescents and Young Adults Conference which this year will focus on improving safeguarding practice: delivering a strengths based approach\, transitional safeguarding\, contextual safeguarding and complex safeguarding. Through national expert sessions and practical case studies the conference aims to bring together safeguarding leads working with adolescents and young people to understand current issues and the national context\, and to debate and discuss key issues and areas you are facing in practice including supporting adolescents and young adults through and beyond COVID-19\, and developing a strengths based approach to adolescent safeguarding. \nHCUK offer a 20% discount with code hcuk20EDPSY
URL:https://edpsy.org.uk/event/safeguarding-adolescents-and-young-adults-delivering-a-strengths-based-approach-07-21/
LOCATION:...
CATEGORIES:Conference
ORGANIZER;CN="HCUK":MAILTO:info@hc-uk.org.uk
END:VEVENT
BEGIN:VEVENT
DTSTART;TZID=Europe/London:20210715T160000
DTEND;TZID=Europe/London:20210715T163000
DTSTAMP:20260422T113044
CREATED:20210708T135617Z
LAST-MODIFIED:20210708T135617Z
UID:3820-1626364800-1626366600@edpsy.org.uk
SUMMARY:Transition and endings webinar with Sarah Sivers and Jamie Allen
DESCRIPTION:This webinar explores how important it is to be aware of and plan for the various transitions and endings that are part of school life. It will offer ideas and resources which will be useful for families\, school staff\, EPs and anyone interested in supporting children and young people through transitions.
URL:https://edpsy.org.uk/event/transition-and-endings-webinar-with-sarah-sivers-and-jamie-allen-07-21/
LOCATION:...
CATEGORIES:Webinar
ORGANIZER;CN="Southend EPS":MAILTO:sarahsivers@southend.gov.uk
END:VEVENT
BEGIN:VEVENT
DTSTART;TZID=Europe/London:20210716T100000
DTEND;TZID=Europe/London:20210716T160000
DTSTAMP:20260422T113044
CREATED:20210611T150156Z
LAST-MODIFIED:20210611T150156Z
UID:3772-1626429600-1626451200@edpsy.org.uk
SUMMARY:Masterclass: Safeguarding children Level 3 - NHS Level 4
DESCRIPTION:The course will explore child protection conferences\, preparing child protection plans and the role of core groups to ensure the best outcomes for children at risk of harm. You will have the opportunity to take part in a simulated Case Conference based on a detailed case study.\nThe aim of the course is that you will have a clear understanding of the assessment and decision-making processes and a sound grasp of the principles and processes for effective collaboration. You will also gain skills in preparing for the Case Conference including how to write a formal report\, identifying what is and what isn’t evidence-based information and how to challenge decisions.\nThe Facilitator for this course\, Christine Moody\, is a highly experienced senior manager with a track record of delivering sustained improvements in health and social care. She currently has a range of independent roles with specialist areas of expertise including safeguarding children’s\, children mental health (CAMHS) tribunal member. Christine is an experienced trainer with a creative results-orientated approach who receives excellent feedback on her ability to engage with people and organisations to help them achieve measurable and realistic outcomes. \nHCUK offer a 20% discount with code hcuk20EDPSY
URL:https://edpsy.org.uk/event/masterclass-safeguarding-children-level-3-nhs-level-4-07-21/
LOCATION:...
CATEGORIES:Webinar
ORGANIZER;CN="HCUK":MAILTO:info@hc-uk.org.uk
END:VEVENT
END:VCALENDAR