BEGIN:VCALENDAR
VERSION:2.0
PRODID:-//edpsy.org.uk - ECPv6.15.17//NONSGML v1.0//EN
CALSCALE:GREGORIAN
METHOD:PUBLISH
X-WR-CALNAME:edpsy.org.uk
X-ORIGINAL-URL:https://edpsy.org.uk
X-WR-CALDESC:Events for edpsy.org.uk
REFRESH-INTERVAL;VALUE=DURATION:PT1H
X-Robots-Tag:noindex
X-PUBLISHED-TTL:PT1H
BEGIN:VTIMEZONE
TZID:Europe/London
BEGIN:DAYLIGHT
TZOFFSETFROM:+0000
TZOFFSETTO:+0100
TZNAME:BST
DTSTART:20200329T010000
END:DAYLIGHT
BEGIN:STANDARD
TZOFFSETFROM:+0100
TZOFFSETTO:+0000
TZNAME:GMT
DTSTART:20201025T010000
END:STANDARD
BEGIN:DAYLIGHT
TZOFFSETFROM:+0000
TZOFFSETTO:+0100
TZNAME:BST
DTSTART:20210328T010000
END:DAYLIGHT
BEGIN:STANDARD
TZOFFSETFROM:+0100
TZOFFSETTO:+0000
TZNAME:GMT
DTSTART:20211031T010000
END:STANDARD
BEGIN:DAYLIGHT
TZOFFSETFROM:+0000
TZOFFSETTO:+0100
TZNAME:BST
DTSTART:20220327T010000
END:DAYLIGHT
BEGIN:STANDARD
TZOFFSETFROM:+0100
TZOFFSETTO:+0000
TZNAME:GMT
DTSTART:20221030T010000
END:STANDARD
END:VTIMEZONE
BEGIN:VEVENT
DTSTART;TZID=Europe/London:20210803T093000
DTEND;TZID=Europe/London:20210803T130000
DTSTAMP:20260422T101203
CREATED:20201221T093336Z
LAST-MODIFIED:20201221T093336Z
UID:3089-1627983000-1627995600@edpsy.org.uk
SUMMARY:REACH Train the Trainer course
DESCRIPTION:This course is specifically a ‘train the trainer’ course for Educational Psychologists who would like to deliver the REACH course in their area.  Once EPs have attended the six modules of this REACH training course\, all materials are then freely available to enable course delivery in their area. Six modules over six days: 3/8/21; 4/8/21; 10/8/21; 11/8/21; 31/8/21; 1/9/21 \nThe REACH Course is an educational psychologist developed and led learning curriculum\, equipping practitioners with the psychological knowledge and skills they require to embed effective trauma informed\, resiliency enabling approaches in their schools and settings. \nDelivered in six ‘bite-size’ modules\, REACH teaches 100 different learning objectives relating to the key knowledge and skills needed to develop an awareness not only of adversity and trauma\, but also of the approaches that are vital in supporting young people to do well\, despite their risk factors.  \nIn particular\, the course explores the five ‘Roots of Resilience’ – and numerous associated research-based protective factors – that we can help vulnerable children to tap into\, in order to maintain their strength and stability during adverse events\, nourishing them from the inside out.  \nThese protective factors are ‘positive childhood experiences’ (PCEs) that can mitigate the effects of adverse childhood experiences (ACEs) and foster the resilience of children affected by adversity.  The course also teaches simple trauma informed techniques for addressing the often-hidden effects of trauma and toxic stress.  \nBecause we know that stable and supportive relationships are the golden thread – or ‘ordinary magic’ (Masten\, 2001) – running through research into what buffers us from risk\, there is a strong emphasis on the importance of nurturing and attuned relationships for resilience in the REACH training course.  The course also emphasises the importance of developing a strong sense of self.
URL:https://edpsy.org.uk/event/reach-train-the-trainer-course-08-21/
LOCATION:Online training
CATEGORIES:Training,Webinar
ORGANIZER;CN="Juliette Ttofa":MAILTO:jttofa@icloud.com
END:VEVENT
END:VCALENDAR