BEGIN:VCALENDAR
VERSION:2.0
PRODID:-//edpsy.org.uk - ECPv6.15.17//NONSGML v1.0//EN
CALSCALE:GREGORIAN
METHOD:PUBLISH
X-WR-CALNAME:edpsy.org.uk
X-ORIGINAL-URL:https://edpsy.org.uk
X-WR-CALDESC:Events for edpsy.org.uk
REFRESH-INTERVAL;VALUE=DURATION:PT1H
X-Robots-Tag:noindex
X-PUBLISHED-TTL:PT1H
BEGIN:VTIMEZONE
TZID:Europe/London
BEGIN:DAYLIGHT
TZOFFSETFROM:+0000
TZOFFSETTO:+0100
TZNAME:BST
DTSTART:20210328T010000
END:DAYLIGHT
BEGIN:STANDARD
TZOFFSETFROM:+0100
TZOFFSETTO:+0000
TZNAME:GMT
DTSTART:20211031T010000
END:STANDARD
BEGIN:DAYLIGHT
TZOFFSETFROM:+0000
TZOFFSETTO:+0100
TZNAME:BST
DTSTART:20220327T010000
END:DAYLIGHT
BEGIN:STANDARD
TZOFFSETFROM:+0100
TZOFFSETTO:+0000
TZNAME:GMT
DTSTART:20221030T010000
END:STANDARD
BEGIN:DAYLIGHT
TZOFFSETFROM:+0000
TZOFFSETTO:+0100
TZNAME:BST
DTSTART:20230326T010000
END:DAYLIGHT
BEGIN:STANDARD
TZOFFSETFROM:+0100
TZOFFSETTO:+0000
TZNAME:GMT
DTSTART:20231029T010000
END:STANDARD
END:VTIMEZONE
BEGIN:VEVENT
DTSTART;TZID=Europe/London:20220407T133000
DTEND;TZID=Europe/London:20220407T160000
DTSTAMP:20260421T222007
CREATED:20220209T093353Z
LAST-MODIFIED:20220209T093555Z
UID:4458-1649338200-1649347200@edpsy.org.uk
SUMMARY:Dynamic assessment interest group
DESCRIPTION:The next meeting of the DA interest group will take place via Zoom on Thursday 7th April\, 1.30 to 4.00 \nIt will follow the usual format\, a specific input first\, followed by some time in breakout rooms to discuss and share practice\, ending with a short plenary. \nMary Stanley-Duke\, one of our group members has kindly agreed to talk about some work she is leading in her Local Authority that relates to DA. Her input is entitled: ‘MeLSA (Mediating Learning Support Assistant)- bringing DA principles (and a lot more!) to those who work with learners most ‘ \nEmail Jane to receive further detail
URL:https://edpsy.org.uk/event/dynamic-assessment-interest-group-04-22/
LOCATION:...
CATEGORIES:Webinar,Workshop
ORGANIZER;CN="Jane Yeomans":MAILTO:jandmyeomans@gmail.com
END:VEVENT
BEGIN:VEVENT
DTSTART;VALUE=DATE:20220425
DTEND;VALUE=DATE:20220426
DTSTAMP:20260421T222007
CREATED:20220311T183006Z
LAST-MODIFIED:20220311T183006Z
UID:4568-1650844800-1650931199@edpsy.org.uk
SUMMARY:Executive Functions: Connecting into Practice - online course for Educational Psychologists
DESCRIPTION:This online self-paced course will guide you through the layers of understanding the concept of executive functions\, how we assess those skills and bring it together in a formulation that makes sense. \nThe course lead Dr Rebecca Ashton is an experienced educational psychologist working in neuropsychology. She has a wealth of experience working with executive functioning issues in school casework and is excited to be sharing her knowledge and understanding in this area. \nThe course is in an eLearning format which can be taken at your own pace (does not need to be competed on the above date)\, and used as a reference guide to come back to over time. It also includes a host of useful resources which can be utilised in your practice\, reflective activities to facilitate your learning\, and a space for the EP community to ask questions and share thoughts between us. \n‘Great guide to assessment\, formulation and sharing understanding with others\, as well as strategies for intervention at differing levels\, and delivered by experts in their fields’ – Review by Kate L\, Ed Psych \n‘A course that develops EPs knowledge and understanding of EF’s but also how to translate and use this for effective interventions at individual child\, parent\, whole class and systemic levels. Not to forget becoming more aware of my own EF strengths and weaknesses. Thank you! – Review by Joanne W\, Ed Psych
URL:https://edpsy.org.uk/event/executive-functions-connecting-into-practice-online-course-for-educational-psychologists-04-22/
LOCATION:...
ORGANIZER;CN="EdPsychEd":MAILTO:info@edpsyched.co.uk
END:VEVENT
BEGIN:VEVENT
DTSTART;VALUE=DATE:20220426
DTEND;VALUE=DATE:20220427
DTSTAMP:20260421T222007
CREATED:20220224T161220Z
LAST-MODIFIED:20220224T161220Z
UID:4534-1650931200-1651017599@edpsy.org.uk
SUMMARY:Preventing Suicide in Young People & Children
DESCRIPTION:This Fifth National Conference which this year will be held virtually focuses on Saving Young Lives – Preventing Suicide in Children and Young People. \nBy attending this one day conference you will hear from expert speakers on how your services can reduce preventable suicides and save young lives. Through national updates\, case studies from multi-agency settings and lived experience insight\, this conference aims to set the scene for progress already being made and what needs to change to improve resilience\, wellbeing\, mental health support and effectively prevent suicide in children and young people. The conference will use case studies to demonstrate interventions that work in health\, schools\, universities and multi-agency settings. The conference will examine implementation of the self harm and suicide prevention competence framework for children and young people and will also reflect on suicide prevention in young people during Covid-19. \nFollow the conference on Twitter #savingyounglives \nThere is a 20% discount with code hcuk20edpsy
URL:https://edpsy.org.uk/event/preventing-suicide-in-young-people-children-04-22/
LOCATION:...
CATEGORIES:Conference
ORGANIZER;CN="Healthcare Conferences UK":MAILTO:katharine@hc-uk.org.uk
END:VEVENT
BEGIN:VEVENT
DTSTART;TZID=Europe/London:20220426T080000
DTEND;TZID=Europe/London:20220426T080000
DTSTAMP:20260421T222007
CREATED:20220228T213340Z
LAST-MODIFIED:20220228T213354Z
UID:4582-1650960000-1650960000@edpsy.org.uk
SUMMARY:Literacy: A Path For All - online CPD course for Educational Psychologists
DESCRIPTION:New course to be launched this spring. Sign up to hear more \nDr Joanna Stanbridge leads this new course. She has a wealth of experience and immense enthusiasm and passion around the complex topic of literacy development and difficulties. \nFollowing a delve into literacy development\, difficulties and dyslexia\, the course progresses to build our understanding of effective assessment\, accommodation and intervention at the whole class\, small group and intensive levels of support. \nBut this is more than a literacy course; it equips us with the knowledge and skills to be part of over-arching systemic changes; working towards a system in which every child can develop strong literacy skills and provide each of them with the lifelong benefits which literacy brings.
URL:https://edpsy.org.uk/event/literacy-a-path-for-all-online-cpd-course-for-educational-psychologists-04-22/
LOCATION:...
CATEGORIES:Training
END:VEVENT
BEGIN:VEVENT
DTSTART;TZID=Europe/London:20220427T160000
DTEND;TZID=Europe/London:20220427T173000
DTSTAMP:20260421T222007
CREATED:20220329T083953Z
LAST-MODIFIED:20220329T083953Z
UID:4709-1651075200-1651080600@edpsy.org.uk
SUMMARY:Doncaster Educational Psychology Open Evening
DESCRIPTION:Doncaster EP Service are hosting an informal open evening for any individuals interested in a career as an EP. What ever stage you are at in your journey\, all are welcome! \nRegister your interest by emailing us
URL:https://edpsy.org.uk/event/educational-psychology-open-evening-04-22/
LOCATION:...
CATEGORIES:Seminar
ORGANIZER;CN="Doncaster Educational Psychology Service":MAILTO:educationpsychology@doncaster.gov uk
END:VEVENT
BEGIN:VEVENT
DTSTART;TZID=Europe/London:20220428T160000
DTEND;TZID=Europe/London:20220428T163000
DTSTAMP:20260421T222007
CREATED:20220311T183555Z
LAST-MODIFIED:20220311T183555Z
UID:4586-1651161600-1651163400@edpsy.org.uk
SUMMARY:Listening to the stories of parents who actively advocate for their child’s Autism Assessment with Dr Skander Hussain
DESCRIPTION:The aim of this research was to explore the question; How do parents experience the role of advocating for their child’s Autism assessment? \nParents were recognised as narrators rather than participants as a narrative thematic analysis approach was adopted. Sub themes related to advocating include; \n\nchallenging professionals/systems\nfight\nwaiting\nconcern dismissed\neducation/experience and evidence
URL:https://edpsy.org.uk/event/listening-to-the-stories-of-parents-who-actively-advocate-for-their-childs-autism-assessment-with-dr-skander-hussain-04-22/
LOCATION:...
CATEGORIES:Webinar
ORGANIZER;CN="EP Reach-Out":MAILTO:epreachout1@gmail.com
END:VEVENT
BEGIN:VEVENT
DTSTART;VALUE=DATE:20220429
DTEND;VALUE=DATE:20220430
DTSTAMP:20260421T222007
CREATED:20220225T114633Z
LAST-MODIFIED:20220225T114633Z
UID:4536-1651190400-1651276799@edpsy.org.uk
SUMMARY:Eating Disorders Summit 2022: Improving Access\, Treatment & Recovery Outcomes
DESCRIPTION:The Covid-19 pandemic has led to surging numbers of people with eating disorders. This conference focuses on Eating Disorders: improving access\, treatment and recovery outcomes\, and meeting the national standards for children\, young people and adult services during and beyond Covid-19. There is focus on early intervention and also a particular focus on Eating Disorders in boys and men. You will hear from James who has lived experience in eating disorders\, and from a service working to reduce stigma and improve outcomes for boys and men with eating disorders. \nFollow the conference on Twitter #EatingDisorders2022 \nThere is a 20% discount with code hcuk20edpsy
URL:https://edpsy.org.uk/event/eating-disorders-summit-2022-improving-access-treatment-recovery-outcomes/
LOCATION:...
CATEGORIES:Conference
ORGANIZER;CN="Healthcare Conferences UK":MAILTO:katharine@hc-uk.org.uk
END:VEVENT
END:VCALENDAR