BEGIN:VCALENDAR
VERSION:2.0
PRODID:-//edpsy.org.uk - ECPv6.15.17//NONSGML v1.0//EN
CALSCALE:GREGORIAN
METHOD:PUBLISH
X-ORIGINAL-URL:https://edpsy.org.uk
X-WR-CALDESC:Events for edpsy.org.uk
REFRESH-INTERVAL;VALUE=DURATION:PT1H
X-Robots-Tag:noindex
X-PUBLISHED-TTL:PT1H
BEGIN:VTIMEZONE
TZID:Europe/London
BEGIN:DAYLIGHT
TZOFFSETFROM:+0000
TZOFFSETTO:+0100
TZNAME:BST
DTSTART:20210328T010000
END:DAYLIGHT
BEGIN:STANDARD
TZOFFSETFROM:+0100
TZOFFSETTO:+0000
TZNAME:GMT
DTSTART:20211031T010000
END:STANDARD
BEGIN:DAYLIGHT
TZOFFSETFROM:+0000
TZOFFSETTO:+0100
TZNAME:BST
DTSTART:20220327T010000
END:DAYLIGHT
BEGIN:STANDARD
TZOFFSETFROM:+0100
TZOFFSETTO:+0000
TZNAME:GMT
DTSTART:20221030T010000
END:STANDARD
BEGIN:DAYLIGHT
TZOFFSETFROM:+0000
TZOFFSETTO:+0100
TZNAME:BST
DTSTART:20230326T010000
END:DAYLIGHT
BEGIN:STANDARD
TZOFFSETFROM:+0100
TZOFFSETTO:+0000
TZNAME:GMT
DTSTART:20231029T010000
END:STANDARD
END:VTIMEZONE
BEGIN:VEVENT
DTSTART;TZID=Europe/London:20220608T160000
DTEND;TZID=Europe/London:20220608T173000
DTSTAMP:20260421T191312
CREATED:20220505T135750Z
LAST-MODIFIED:20220505T135750Z
UID:4877-1654704000-1654709400@edpsy.org.uk
SUMMARY:Interested in becoming an Educational Psychologist?
DESCRIPTION:Cornwall Educational Psychology Service will be running an online session on Wednesday 8th June 4:00 – 5:30 pm on Microsoft Teams to provide information for individuals interested in becoming an EP. \nWithin the session we will talk about the role and what it involves\, the training route\, and key issues for EPs in their work with schools and families. The session is suitable for undergraduate students upwards. \nFor an invite please email Kate Hornblower
URL:https://edpsy.org.uk/event/interested-in-becoming-an-educational-psychologist-06-22/
LOCATION:...
CATEGORIES:Webinar
ORGANIZER;CN="Cornwall Council Educational Psychology Service":MAILTO:snjie@cornwall.gov.uk
END:VEVENT
BEGIN:VEVENT
DTSTART;VALUE=DATE:20220620
DTEND;VALUE=DATE:20220624
DTSTAMP:20260421T191312
CREATED:20220208T183126Z
LAST-MODIFIED:20220208T183346Z
UID:4451-1655683200-1656028799@edpsy.org.uk
SUMMARY:Dynamic Assessment Workshop for EPs
DESCRIPTION:Hampshire & IoW Educational Psychology is pleased to host this workshop. \nProfessor David Tzuriel has an international reputation as a leader in dynamic assessment\, research\, innovation and practice. He has developed a series of tests for use with young children. The four days will introduce participants to these materials and his approach to dynamic assessment. There will be opportunities to see live demonstrations\, receive supervised practice in a local primary school\, hear about recent research and dynamic assessment theory\, and participate in discussion. \nProfessor Tzuriel has made a number of visits to the UK\, and all previous Hampshire-hosted workshops have been oversubscribed. Places are strictly limited to ensure a quality learning experience. \nN.B. Cost is including lunch and refreshments but excluding accommodation. \nTo book and make enquiries\, email Sarah Cummins
URL:https://edpsy.org.uk/event/dynamic-assessment-workshop-for-eps-06-22/
LOCATION:Holiday Inn Basingstoke\, Holiday Inn\, Basingstoke\, Hampshire\, RG21 3EE\, United Kingdom
CATEGORIES:Training,Workshop
ORGANIZER;CN="Sarah Cummins":MAILTO:sarah.cummins@hants.gov.uk
END:VEVENT
BEGIN:VEVENT
DTSTART;TZID=Europe/London:20220620T080000
DTEND;TZID=Europe/London:20220620T170000
DTSTAMP:20260421T191312
CREATED:20220527T090122Z
LAST-MODIFIED:20220527T090122Z
UID:4943-1655712000-1655744400@edpsy.org.uk
SUMMARY:Literacy: A Path For All - online CPD course for Educational Psychologists
DESCRIPTION:Launching Monday 20th June – Literacy: a path for all \nSign up to access early bird offer \nDr Joanna Stanbridge leads this new course. She has a wealth of experience and immense enthusiasm and passion around the complex topic of literacy development and difficulties. \nFollowing a delve into literacy development\, difficulties and dyslexia\, the course progresses to build our understanding of effective assessment\, accommodation and intervention at the whole class\, small group and intensive levels of support. \nBut this is more than a literacy course; it equips us with the knowledge and skills to be part of over-arching systemic changes; working towards a system in which every child can develop strong literacy skills and provide each of them with the lifelong benefits which literacy brings.
URL:https://edpsy.org.uk/event/literacy-a-path-for-all-online-cpd-course-for-educational-psychologists/
LOCATION:...
CATEGORIES:Training
END:VEVENT
BEGIN:VEVENT
DTSTART;TZID=Europe/London:20220621T093000
DTEND;TZID=Europe/London:20220621T160000
DTSTAMP:20260421T191312
CREATED:20220423T102319Z
LAST-MODIFIED:20220423T102319Z
UID:4805-1655803800-1655827200@edpsy.org.uk
SUMMARY:Giving Expert Opinion and Testimony
DESCRIPTION:£80 + VAT \nThis training seeks to explain and demystify the Court Arena for Psychologists and Therapists practicing in a range of fields from Child & Family\, Criminal and Clinical Negligence. It will take you through the expert process step by step; from taking instruction\, assessment and formulation\, report and giving testimony in Court. \nAlthough the training will be virtual\, it will be practical and engaging to ensure that you leave the training feeling more confident in providing your expert opinion. \nThis training will be delivered by Dr Sue Candy\, Registered Consultant Clinical Psychologist and Director. Sue has been giving expert opinion since 1993 and has accumulated extensive experience\, including high profile and complex cases.
URL:https://edpsy.org.uk/event/giving-expert-opinion-and-testimony-06-22/
LOCATION:...
CATEGORIES:Training
ORGANIZER;CN="Psychology Associates":MAILTO:Training@psychologyassociates.org.uk
END:VEVENT
BEGIN:VEVENT
DTSTART;VALUE=DATE:20220622
DTEND;VALUE=DATE:20220624
DTSTAMP:20260421T191312
CREATED:20220521T134021Z
LAST-MODIFIED:20220521T134021Z
UID:4915-1655856000-1656028799@edpsy.org.uk
SUMMARY:Reflective Supervision Training
DESCRIPTION:The Mulberry Bush’s Reflective Supervision training is designed to support staff with developing their knowledge and skills relating to being a supervisor. This training is suitable for anyone working within the education system. \nThe aim of which is to introduce you to the purpose and benefits of developing an effective\, psychodynamically informed supervision structure to support a culture of organisational well-being. \nIt has been specifically designed to help you to develop a reflective culture\, which focuses on the professional supervision of staff members. Successful completion of the course will allow you to join The Mulberry Bush network of supervisors\, and an annual fresher training day. \nThis training takes place at MB3\, our site in Toddington\, Gloucestershire. This is a two day course\, the cost covers food & accomodation
URL:https://edpsy.org.uk/event/reflective-supervision-training-06-22/
LOCATION:The Mulberry Bush Third Space\, 2 Church Lane\, Toddington\, Gloucestershire\, GL54 5DQ\, United Kingdom
CATEGORIES:Training
ORGANIZER;CN="The Mulberry Bush":MAILTO:ebowen@mulberrybush.org.uk
END:VEVENT
BEGIN:VEVENT
DTSTART;TZID=Europe/London:20220623T160000
DTEND;TZID=Europe/London:20220623T163000
DTSTAMP:20260421T191312
CREATED:20220609T170957Z
LAST-MODIFIED:20220609T171040Z
UID:5021-1656000000-1656001800@edpsy.org.uk
SUMMARY:‘It just helps head off things before they become bigger’: Setting up and running EP drop-in sessions with a small group of schools with Dr Dan O'Hare
DESCRIPTION:In this EP Reach-Out Webinar Dan will share his work establishing EP drop-in sessions with three schools. The schools wanted to provide staff with the opportunity to talk with the EP more frequently and Dan will discuss the preparatory work that occurred to support these schools to pool their resources and establish a cooperative and collaborative EP drop-in session model\, within a traded context. \nWe’ll explore the psychology underpinning the model of delivery\, the pragmatics of establishing this approach\, and look at evaluative data from 20 drop-in sessions. The hope is that you’ll leave the webinar fairly confident to take a similar approach in to practice. \nRegister for this webinar
URL:https://edpsy.org.uk/event/it-just-helps-head-off-things-before-they-become-bigger-setting-up-and-running-ep-drop-in-sessions-with-a-small-group-of-schools-with-dr-dan-ohare-06-22/
LOCATION:Online training
CATEGORIES:Webinar
ORGANIZER;CN="EP Reach-Out":MAILTO:epreachout1@gmail.com
END:VEVENT
BEGIN:VEVENT
DTSTART;VALUE=DATE:20220629
DTEND;VALUE=DATE:20220630
DTSTAMP:20260421T191312
CREATED:20220225T115504Z
LAST-MODIFIED:20220225T115504Z
UID:4540-1656460800-1656547199@edpsy.org.uk
SUMMARY:Improving Access\, Treatment and Support for People with a Diagnosis of Personality Disorder
DESCRIPTION:This conference focuses on Improving Access\, Treatment and Support for People with a Diagnosis of Personality Disorder both during and beyond Covid-19. \nThis conference will enable you to: \n\nNetwork with colleagues who are working to improve access and treatment for people with personality disorder\nReflect on the lived experience of someone with a diagnosis of personality disorder\nExplore how Covid-19 has impacted on people with a diagnosis of personality disorder and how we can better support people during and beyond the pandemic\nUnderstand the implications of the Royal College of Psychiatrists Position Statement on Services for People Diagnosable with Personality Disorder for your service\nLearn from outstanding practice in early intervention and working with GPs\nEnsure equity of access and improve support for people from diverse communities\nDiscuss the use of terminology and stigma associated with this diagnosis\nUnderstand how to deliver an effective PD Treatment Pathway including treatment models and therapeutic interventions\nDevelop your skills delivering a trauma informed approach and working with children and young adults experiencing symptoms of emerging Personality Disorder\nUnderstand how you can deliver effective psychological therapies for people with personality disorder\nIdentify key strategies for engaging with and supporting carers\nExploring creative approaches\nUnderstand how to self assess and audit your service for personality disorder and developing an action plan for improvement\nSupporting people living with personality disorder\nUnderstand how to effectively integrate suicide mitigation practice into your service\nSelf assess and reflect on your own practice\n\nFollow the conference on Twitter #PersonalityDisorder2022 \nThere is a 20% discount with code hcuk20edpsy
URL:https://edpsy.org.uk/event/improving-access-treatment-and-support-for-people-with-a-diagnosis-of-personality-disorder-06-22/
LOCATION:...
CATEGORIES:Conference
ORGANIZER;CN="Healthcare Conferences UK":MAILTO:katharine@hc-uk.org.uk
END:VEVENT
BEGIN:VEVENT
DTSTART;TZID=Europe/London:20220629T190000
DTEND;TZID=Europe/London:20220629T210000
DTSTAMP:20260421T191312
CREATED:20220610T095438Z
LAST-MODIFIED:20220610T095532Z
UID:5045-1656529200-1656536400@edpsy.org.uk
SUMMARY:EP research club and group coaching - June 2022
DESCRIPTION:EP research club aims to connect EPs who would like to engage in more research-based activity – of any kind: whether it’s reading\, writing\, planning projects\, analysing data and/or seeking to publish. We are an open and friendly group and we welcome anyone to join us – you can drop in any time. We currently meet online via Zoom. \nEach session has two parts: \n\nA group coaching session (facilitated by Dr Fi Coley)\, in which we set goals\, share successes (and frustrations!)\, and explore and overcome our barriers to doing research-related work.\nProtected time for our own individual research pursuits: reading\, writing and research-based activities. We turn our cameras off and work on our own individual tasks\, before checking in at the end to celebrate what we’ve done.\n\nEP Research Club is the ideal space for motivation\, inspiration and accountability towards your research-based goals. Come join us! (It’s free!)
URL:https://edpsy.org.uk/event/ep-research-club-and-group-coaching-multiple-06-22/
LOCATION:...
CATEGORIES:Workshop
ORGANIZER;CN="Dr Fiona Coley":MAILTO:fi@theedpsychcoach.com
END:VEVENT
BEGIN:VEVENT
DTSTART;VALUE=DATE:20220630
DTEND;VALUE=DATE:20220701
DTSTAMP:20260421T191312
CREATED:20220425T145730Z
LAST-MODIFIED:20220425T145730Z
UID:4841-1656547200-1656633599@edpsy.org.uk
SUMMARY:Improving Practice & Supporting Survivors in Sexual Assault Referral Centres (SARC)
DESCRIPTION:£295 + VAT \nFirst national conference – a joint Mountain Healthcare & Healthcare Conferences UK Conference \nFollow the conference on Twitter #SARC \nOur Best Practice Conference will provide valuable insight and discussion for anyone working in the field of rape or sexual violence. \nThe wide programme which includes lived experience\, expert sessions and examples of innovation will bring together delegates to share information\, advance learning opportunities and support professional growth. It will be particularly useful for policy and decision makers\, people working in the criminal justice system\, police officers\, forensic physicians\, health professionals\, those working in safeguarding\, those supporting people through court and therapeutically. \nThe day will be Chaired by Dr Kate Shardlow\, Medical Director and Emelia Spencer National Director for Sexual Assault Referral Centres and will cover a wide range of patient focussed topics including; What does excellence look like\, National Guidance and Quality Standards (FFLM) and Developing supportive services for children and young people. During the day there will be opportunity for practitioners to wok collectively with the guidance of subject matter experts to look at some of the current and emerging challenges within the field of sexual assault. \nThere is a 20% discount with code hcuk20edpsy
URL:https://edpsy.org.uk/event/improving-practice-supporting-survivors-in-sexual-assault-referral-centres-sarc/
LOCATION:...
CATEGORIES:Conference
ORGANIZER;CN="Healthcare Conferences UK":MAILTO:katharine@hc-uk.org.uk
END:VEVENT
BEGIN:VEVENT
DTSTART;TZID=Europe/London:20220630T080000
DTEND;TZID=Europe/London:20220630T170000
DTSTAMP:20260421T191312
CREATED:20220527T090236Z
LAST-MODIFIED:20220527T090236Z
UID:4945-1656576000-1656608400@edpsy.org.uk
SUMMARY:Executive Functions: Connecting into Practice - online course for Educational Psychologists
DESCRIPTION:This online self-paced course will guide you through the layers of understanding the concept of executive functions\, how we assess those skills and bring it together in a formulation that makes sense. \nThe course lead Dr Rebecca Ashton is an experienced educational psychologist working in neuropsychology. She has a wealth of experience working with executive functioning issues in school casework and is excited to be sharing her knowledge and understanding in this area. \nThe course is in an eLearning format which can be taken at your own pace (does not need to be competed on the above date)\, and used as a reference guide to come back to over time. It also includes a host of useful resources which can be utilised in your practice\, reflective activities to facilitate your learning\, and a space for the EP community to ask questions and share thoughts between us. \n‘Great guide to assessment\, formulation and sharing understanding with others\, as well as strategies for intervention at differing levels\, and delivered by experts in their fields’ – Review by Kate L\, Ed Psych \n‘A course that develops EPs knowledge and understanding of EF’s but also how to translate and use this for effective interventions at individual child\, parent\, whole class and systemic levels. Not to forget becoming more aware of my own EF strengths and weaknesses. Thank you! – Review by Joanne W\, Ed Psych
URL:https://edpsy.org.uk/event/executive-functions-connecting-into-practice-online-course-for-educational-psychologists-06-22/
LOCATION:...
CATEGORIES:Training
END:VEVENT
BEGIN:VEVENT
DTSTART;TZID=Europe/London:20220630T160000
DTEND;TZID=Europe/London:20220630T163000
DTSTAMP:20260421T191312
CREATED:20220609T171523Z
LAST-MODIFIED:20220609T171523Z
UID:5017-1656604800-1656606600@edpsy.org.uk
SUMMARY:Thinking about Dynamic Assessment – Resources\, Mediation and Formulation with Paula Pashley\, Sarah Wendland and Sarah Sivers
DESCRIPTION:This webinar adds to those that have already been presented about Dynamic Assessment (DA) on EP Reach-Out. The aim of this webinar is to share resources which are used with children and young people\, think about mediation techniques and discuss what DA can tell us about learning potential. \nRegister for this webinar
URL:https://edpsy.org.uk/event/thinking-about-dynamic-assessment-resources-mediation-and-formulation-with-paula-pashley-sarah-wendland-and-sarah-sivers-06-22/
LOCATION:Online training
CATEGORIES:Webinar
ORGANIZER;CN="EP Reach-Out":MAILTO:epreachout1@gmail.com
END:VEVENT
END:VCALENDAR