BEGIN:VCALENDAR
VERSION:2.0
PRODID:-//edpsy.org.uk - ECPv6.15.17//NONSGML v1.0//EN
CALSCALE:GREGORIAN
METHOD:PUBLISH
X-WR-CALNAME:edpsy.org.uk
X-ORIGINAL-URL:https://edpsy.org.uk
X-WR-CALDESC:Events for edpsy.org.uk
REFRESH-INTERVAL;VALUE=DURATION:PT1H
X-Robots-Tag:noindex
X-PUBLISHED-TTL:PT1H
BEGIN:VTIMEZONE
TZID:Europe/London
BEGIN:DAYLIGHT
TZOFFSETFROM:+0000
TZOFFSETTO:+0100
TZNAME:BST
DTSTART:20210328T010000
END:DAYLIGHT
BEGIN:STANDARD
TZOFFSETFROM:+0100
TZOFFSETTO:+0000
TZNAME:GMT
DTSTART:20211031T010000
END:STANDARD
BEGIN:DAYLIGHT
TZOFFSETFROM:+0000
TZOFFSETTO:+0100
TZNAME:BST
DTSTART:20220327T010000
END:DAYLIGHT
BEGIN:STANDARD
TZOFFSETFROM:+0100
TZOFFSETTO:+0000
TZNAME:GMT
DTSTART:20221030T010000
END:STANDARD
BEGIN:DAYLIGHT
TZOFFSETFROM:+0000
TZOFFSETTO:+0100
TZNAME:BST
DTSTART:20230326T010000
END:DAYLIGHT
BEGIN:STANDARD
TZOFFSETFROM:+0100
TZOFFSETTO:+0000
TZNAME:GMT
DTSTART:20231029T010000
END:STANDARD
END:VTIMEZONE
BEGIN:VEVENT
DTSTART;TZID=Europe/London:20220811T183000
DTEND;TZID=Europe/London:20220811T200000
DTSTAMP:20260421T160745
CREATED:20220728T143708Z
LAST-MODIFIED:20220728T143708Z
UID:5345-1660242600-1660248000@edpsy.org.uk
SUMMARY:Common challenges in Thematic Analysis and how to avoid them with Virginia Braun & Victoria Clarke
DESCRIPTION:In this webinar\, Virginia Braun and Victoria Clarke will explore common challenges in thematic analysis (TA) research\, how to avoid them – and even how to rework your analysis if necessary. \nWith a Q&A hosted by fellow academics Nikki Hayfield and Gareth Terry\, this webinar will focus on Braun & Clarke’s reflexive TA approach\, but also consider the wider TA family of methods. You will get a chance to ask Ginny and Victoria about common research hurdles such as confusing themes and topic summaries\, “mashing up” incompatible approaches to TA and treating TA as a theory-free method.
URL:https://edpsy.org.uk/event/common-challenges-in-thematic-analysis-and-how-to-avoid-them-with-virginia-braun-victoria-clarke-08-22/
LOCATION:...
CATEGORIES:Online,Webinar
END:VEVENT
BEGIN:VEVENT
DTSTART;TZID=Europe/London:20220812T090000
DTEND;TZID=Europe/London:20220812T110000
DTSTAMP:20260421T160745
CREATED:20220610T095946Z
LAST-MODIFIED:20220610T095946Z
UID:5049-1660294800-1660302000@edpsy.org.uk
SUMMARY:EP Research Club and Group Coaching - August 2022
DESCRIPTION:EP research club aims to connect EPs who would like to engage in more research-based activity – of any kind: whether it’s reading\, writing\, planning projects\, analysing data and/or seeking to publish. We are an open and friendly group and we welcome anyone to join us – you can drop in any time. We currently meet online via Zoom. \nEach session has two parts: \n\nA group coaching session (facilitated by Dr Fi Coley)\, in which we set goals\, share successes (and frustrations!)\, and explore and overcome our barriers to doing research-related work.\nProtected time for our own individual research pursuits: reading\, writing and research-based activities. We turn our cameras off and work on our own individual tasks\, before checking in at the end to celebrate what we’ve done.\n\nEP Research Club is the ideal space for motivation\, inspiration and accountability towards your research-based goals. Come join us! (It’s free!)
URL:https://edpsy.org.uk/event/ep-research-club-and-group-coaching-august-08-22/
LOCATION:...
CATEGORIES:Workshop
ORGANIZER;CN="Dr Fiona Coley":MAILTO:fi@theedpsychcoach.com
END:VEVENT
BEGIN:VEVENT
DTSTART;VALUE=DATE:20220825
DTEND;VALUE=DATE:20220826
DTSTAMP:20260421T160745
CREATED:20220425T145457Z
LAST-MODIFIED:20220425T145457Z
UID:4843-1661385600-1661471999@edpsy.org.uk
SUMMARY:Improving Mental Health Support for Asylum Seekers and Refugees
DESCRIPTION:£295 + VAT \nFollow the conference on Twitter #RefugeeMentalHealth \nWe are pleased to announce the Ninth Annual Conference to focus on improving Mental Health Support for Asylum Seekers and Refugees. \nThere is a 20% discount with code hcuk20edpsy
URL:https://edpsy.org.uk/event/improving-mental-health-support-for-asylum-seekers-and-refugees-08-22/
LOCATION:...
CATEGORIES:Conference
ORGANIZER;CN="Healthcare Conferences UK":MAILTO:katharine@hc-uk.org.uk
END:VEVENT
BEGIN:VEVENT
DTSTART;TZID=Europe/London:20220831T100000
DTEND;TZID=Europe/London:20220831T150000
DTSTAMP:20260421T160745
CREATED:20220812T091856Z
LAST-MODIFIED:20220812T091856Z
UID:5442-1661940000-1661958000@edpsy.org.uk
SUMMARY:Creating Neurodiversity-Affirming Schools
DESCRIPTION:This 1 day online CPD event aims to deepen Educational Psychologists’ understanding of the Neurodiversity paradigm and its application to school settings\, to promote inclusion for our neurodivergent learners. \nThis event is led by Dr Joanne Riordan – a neurodivergent educational psychologist who has supported over 50 schools in becoming more Neurodiversity-affirming. Joanne was nominated for a 2022 National Diversity Award for her work within the field of Neurodiversity. Joanne uses her lived experience as a neurodivergent individual\, personal experience as a mum in a neurodiverse family\, and her professional expertise to inform her approach for this event. \nThis event is fast paced and interactive\, and will equip delegates with specific strategies and approaches that can be recommended to schools. \nBook via Eventbrite
URL:https://edpsy.org.uk/event/creating-neurodiversity-affirming-schools-08-22/
LOCATION:...
CATEGORIES:Webinar
ORGANIZER;CN="Dr Joanne Riordan":MAILTO:enquiries@drjoanne.co.uk
END:VEVENT
END:VCALENDAR