BEGIN:VCALENDAR
VERSION:2.0
PRODID:-//edpsy.org.uk - ECPv6.15.17//NONSGML v1.0//EN
CALSCALE:GREGORIAN
METHOD:PUBLISH
X-ORIGINAL-URL:https://edpsy.org.uk
X-WR-CALDESC:Events for edpsy.org.uk
REFRESH-INTERVAL;VALUE=DURATION:PT1H
X-Robots-Tag:noindex
X-PUBLISHED-TTL:PT1H
BEGIN:VTIMEZONE
TZID:Europe/London
BEGIN:DAYLIGHT
TZOFFSETFROM:+0000
TZOFFSETTO:+0100
TZNAME:BST
DTSTART:20210328T010000
END:DAYLIGHT
BEGIN:STANDARD
TZOFFSETFROM:+0100
TZOFFSETTO:+0000
TZNAME:GMT
DTSTART:20211031T010000
END:STANDARD
BEGIN:DAYLIGHT
TZOFFSETFROM:+0000
TZOFFSETTO:+0100
TZNAME:BST
DTSTART:20220327T010000
END:DAYLIGHT
BEGIN:STANDARD
TZOFFSETFROM:+0100
TZOFFSETTO:+0000
TZNAME:GMT
DTSTART:20221030T010000
END:STANDARD
BEGIN:DAYLIGHT
TZOFFSETFROM:+0000
TZOFFSETTO:+0100
TZNAME:BST
DTSTART:20230326T010000
END:DAYLIGHT
BEGIN:STANDARD
TZOFFSETFROM:+0100
TZOFFSETTO:+0000
TZNAME:GMT
DTSTART:20231029T010000
END:STANDARD
END:VTIMEZONE
BEGIN:VEVENT
DTSTART;TZID=Europe/London:20220907T190000
DTEND;TZID=Europe/London:20220907T210000
DTSTAMP:20260421T143850
CREATED:20220610T100138Z
LAST-MODIFIED:20220610T100138Z
UID:5051-1662577200-1662584400@edpsy.org.uk
SUMMARY:EP research club and group coaching - September 2022
DESCRIPTION:EP research club aims to connect EPs who would like to engage in more research-based activity – of any kind: whether it’s reading\, writing\, planning projects\, analysing data and/or seeking to publish. We are an open and friendly group and we welcome anyone to join us – you can drop in any time. We currently meet online via Zoom. \nEach session has two parts: \n\nA group coaching session (facilitated by Dr Fi Coley)\, in which we set goals\, share successes (and frustrations!)\, and explore and overcome our barriers to doing research-related work.\nProtected time for our own individual research pursuits: reading\, writing and research-based activities. We turn our cameras off and work on our own individual tasks\, before checking in at the end to celebrate what we’ve done.\n\nEP Research Club is the ideal space for motivation\, inspiration and accountability towards your research-based goals. Come join us! (It’s free!)
URL:https://edpsy.org.uk/event/ep-research-club-and-group-coaching-september-09-22/
LOCATION:...
CATEGORIES:Workshop
ORGANIZER;CN="Dr Fiona Coley":MAILTO:fi@theedpsychcoach.com
END:VEVENT
BEGIN:VEVENT
DTSTART;VALUE=DATE:20220914
DTEND;VALUE=DATE:20220917
DTSTAMP:20260421T143850
CREATED:20220414T090644Z
LAST-MODIFIED:20220414T090739Z
UID:4779-1663113600-1663372799@edpsy.org.uk
SUMMARY:BPS Developmental Section Conference
DESCRIPTION:The Conference\nThe Developmental Psychology Section Annual Conference 2022 will provide a forum for dissemination\, discussion\, and debate in relation to a range of cutting-edge issues attracting attention from academics and practitioners working in the field of Developmental Psychology. \nThe conference will be held in Sheffield from the 14th-16th September 2022. \nThe Conference will consist of keynote speakers (including Professor Robin Plomin\, Professor Caroline Martin and Dr Duncan Astle) symposium\, oral and poster presentations\, workshops and networking opportunities. \nAbout the Developmental Psychology Section\nThe Developmental Psychology Section promotes the scientific study of the cognitive\, emotional\, social\, perceptual\, and biological changes in humans that occur from before birth\, through infancy\, childhood\, adolescence and into adulthood. \nSince its inception in 1980\, its mission has been to support and develop high quality research into developmental psychology and to raise the profile of British developmental research on a local and international level\, with policy-makers\, practitioners\, business and the general public.
URL:https://edpsy.org.uk/event/bps-developmental-section-conference-09-22/
LOCATION:Crown Plaza Royal Victoria Sheffield\, Victoria Station Road\, Sheffield\, Sheffield\, S4 7YE\, United Kingdom
CATEGORIES:Conference
ORGANIZER;CN="BPS Developmental Psychology":MAILTO:devconf@bps.org.uk
END:VEVENT
BEGIN:VEVENT
DTSTART;TZID=Europe/London:20220915T160000
DTEND;TZID=Europe/London:20220915T163000
DTSTAMP:20260421T143850
CREATED:20220828T142336Z
LAST-MODIFIED:20220828T142336Z
UID:5475-1663257600-1663259400@edpsy.org.uk
SUMMARY:Maths Anxiety in Teachers with Kyli Timmins
DESCRIPTION:A brief overview of maths anxiety and a discussion of a Master’s Research Project exploring factors that contribute to and exacerbate maths anxiety in the UK teacher population.
URL:https://edpsy.org.uk/event/maths-anxiety-in-teachers-with-kyli-timmins-09-22/
LOCATION:...
CATEGORIES:Online
ORGANIZER;CN="EP Reach-Out":MAILTO:epreachout1@gmail.com
END:VEVENT
BEGIN:VEVENT
DTSTART;TZID=Europe/London:20220915T170000
DTEND;TZID=Europe/London:20220915T183000
DTSTAMP:20260421T143850
CREATED:20220828T132342Z
LAST-MODIFIED:20220912T092034Z
UID:5511-1663261200-1663266600@edpsy.org.uk
SUMMARY:EP Group Coaching taster session - Goal 1: Do more systemic work and projects
DESCRIPTION:Would you like to do more systemic work in your schools and other settings and/or to engage in more project work? You can make it happen. \nNEW: group coaching taster session for Educational Psychologists. \nA one-off taster session for 90 minutes in a small group (no more than 6 EPs) relating to the broad goal: Do more systemic work and projects. \nGroup coaching harnesses the combined energy and wisdom of the group to find ways forward in relation to your personal and professional goals. The group session will be uniquely shaped by the needs\, desires and specific goals of group members. You will have chance to explore your own personal and specific goal(s) relating to this theme and you will find ways forward that will work for you. \n\nIn each group coaching taster session\, you will:\nMeet with like-minded\, inspiring and ambitious EPs\nSet personalised goals for yourself (in relation to the theme)\nContribute to and benefit from group coaching and shared ideas\, facilitated by a qualified EP and coach (Dr Fiona Coley\, DEdPsy\, CertCoach)\nConsider your options and ways forward in relation to the particular theme\nPlan next steps and accountability for yourself\, in order to achieve your goal(s)
URL:https://edpsy.org.uk/event/ep-group-coaching-taster-session-goal-1-do-more-systemic-work-and-projects-09-22/
LOCATION:...
CATEGORIES:Training,Webinar
ORGANIZER;CN="Dr Fiona Coley":MAILTO:fi@theedpsychcoach.com
END:VEVENT
BEGIN:VEVENT
DTSTART;VALUE=DATE:20220916
DTEND;VALUE=DATE:20220917
DTSTAMP:20260421T143850
CREATED:20220623T212751Z
LAST-MODIFIED:20220623T212751Z
UID:5174-1663286400-1663372799@edpsy.org.uk
SUMMARY:Feelings Detectives training - adapted CBT for autism and learning needs
DESCRIPTION:The Feelings Detectives is a 12-week coping skills intervention programme specifically designed for young people aged between 7 and 13 years with social communication and interaction difficulties\, including autism. The programme teaches coping skills to help young people manage anxiety using cognitive behavioural therapy (CBT) principles. Young people can train to become Feelings Detectives led by the adult Lead Detective. \nThe Feelings Detectives programme has been designed and evaluated by educational psychologists within schools across the United Kingdom. \nWe are delighted to announce a Feelings Detectives online training event on Friday 16th September 2022. The training will take place online via Zoom from 9:30am to 3.30pm. \nAs part of your training fee\, you will receive a starter pack of resources including 1 Lead Detective Manual and 1 Detective Notebook for young people. \nAfter booking\, you will receive the meeting link and training resources by email. The resources starter pack will be sent by post prior to the training day. \nWe look forward to seeing you there virtually! \nBooking link
URL:https://edpsy.org.uk/event/feelings-detectives-training-adapted-cbt-for-autism-and-learning-needs-09-22/
LOCATION:...
CATEGORIES:Training
ORGANIZER;CN="Feelings Detectives":MAILTO:hello@feelingsdetectives.com
END:VEVENT
BEGIN:VEVENT
DTSTART;TZID=Europe/London:20220921T160000
DTEND;TZID=Europe/London:20220921T170000
DTSTAMP:20260421T143850
CREATED:20220920T124927Z
LAST-MODIFIED:20220920T124927Z
UID:5689-1663776000-1663779600@edpsy.org.uk
SUMMARY:How to develop your practitioner skills in Dynamic Assessment
DESCRIPTION:This event is for EPs that are interested in learning more about our BPS accredited certification programme . We will explain the benefits of being involved in the programme\, what requirements there are for obtaining the Level 2 (entry level for EPs) practitioner certificate\, and we will give you a glimpse of some of the additional resources that are available for Level 2 registrants.
URL:https://edpsy.org.uk/event/how-to-develop-your-practitioner-skills-in-dynamic-assessment-09-22/
LOCATION:...
CATEGORIES:Online
ORGANIZER;CN="Dynamic Assessment UK Ltd":MAILTO:fraserlauchlan@live.com
END:VEVENT
BEGIN:VEVENT
DTSTART;VALUE=DATE:20220922
DTEND;VALUE=DATE:20220923
DTSTAMP:20260421T143850
CREATED:20220425T145337Z
LAST-MODIFIED:20220425T145337Z
UID:4845-1663804800-1663891199@edpsy.org.uk
SUMMARY:CAMHS National Summit 2022: Transforming Mental Health Services for Children & Young Adults
DESCRIPTION:£295 + VAT \nFollow the conference on Twitter #CAMHS2022 \nThis national conference focuses on transforming mental health services for children and young people\, ensuring early intervention\, and developing integrated services with clear care pathways from first intervention to crisis and inpatient care. The conference will also look at national developments and learning from the Covid-19 pandemic and how CAMHS has had to adapt and innovate to provide effective care. The conference will address suicide prevention and learning from suicide and also safeguarding and CAMHS. \nThere is a 20% discount with code hcuk20edpsy
URL:https://edpsy.org.uk/event/camhs-national-summit-2022-transforming-mental-health-services-for-children-young-adults-09-22/
LOCATION:...
CATEGORIES:Conference
ORGANIZER;CN="Healthcare Conferences UK":MAILTO:katharine@hc-uk.org.uk
END:VEVENT
BEGIN:VEVENT
DTSTART;TZID=Europe/London:20220927T150000
DTEND;TZID=Europe/London:20220927T163000
DTSTAMP:20260421T143850
CREATED:20220828T135934Z
LAST-MODIFIED:20220912T092110Z
UID:5473-1664290800-1664296200@edpsy.org.uk
SUMMARY:PTMF Education Special Interest Group Session #3
DESCRIPTION:The aim of this group is to come together as educational professionals to explore the way in which the Power Threat Meaning Framework (PTMF; Boyle & Johnstone\, 2018; 2020) might be applied within education. \nFor more information see our edpsy interest group page
URL:https://edpsy.org.uk/event/ptmf_education-special-interest-group-session-3-09-22/
LOCATION:...
CATEGORIES:Online
ORGANIZER;CN="PTMF_Education":MAILTO:ptmf.education@gmail.com
END:VEVENT
BEGIN:VEVENT
DTSTART;TZID=Europe/London:20220927T150000
DTEND;TZID=Europe/London:20220927T170000
DTSTAMP:20260421T143850
CREATED:20220828T142940Z
LAST-MODIFIED:20220912T092133Z
UID:5507-1664290800-1664298000@edpsy.org.uk
SUMMARY:City of Wolverhampton Educational Psychology Service open afternoon
DESCRIPTION:This free online event is for anyone interested in Educational Psychology\, whatever stage you are at in your career or study. \nIt will include; \n\nPresentations from Educational Psychologists about their role.\nInformation about how to train as an Educational Psychologist\, and how to apply for the training course.\nOpportunities to talk to Educational Psychologists and ask questions.
URL:https://edpsy.org.uk/event/city-of-wolverhampton-educational-psychology-service-open-afternoon-09-22/
LOCATION:...
CATEGORIES:Online
ORGANIZER;CN="Ruth Hewett":MAILTO:ruth.hewett@wolverhampton.gov.uk
END:VEVENT
BEGIN:VEVENT
DTSTART;VALUE=DATE:20220928
DTEND;VALUE=DATE:20220929
DTSTAMP:20260421T143850
CREATED:20220425T145208Z
LAST-MODIFIED:20220425T145208Z
UID:4847-1664323200-1664409599@edpsy.org.uk
SUMMARY:Eating Disorders Summit 2022: Improving Access\, Treatment & Recovery Outcomes
DESCRIPTION:£295 + VAT \nFollow the conference on Twitter #EatingDisorders2022 \nThe Covid-19 pandemic has led to surging numbers of people with eating disorders. This conference focuses on Eating Disorders: improving access\, treatment and recovery outcomes\, and meeting the national standards for children\, young people and adult services during and beyond Covid-19. There is focus on early intervention and also a particular focus on Eating Disorders in boys and men. You will hear from James who has lived experience in eating disorders\, and from a service working to reduce stigma and improve outcomes for boys and men with eating disorders. \nThere is a 20% discount with code hcuk20edpsy
URL:https://edpsy.org.uk/event/eating-disorders-summit-09-2022-improving-access-treatment-recovery-outcomes-2/
LOCATION:...
CATEGORIES:Conference
ORGANIZER;CN="Healthcare Conferences UK":MAILTO:katharine@hc-uk.org.uk
END:VEVENT
BEGIN:VEVENT
DTSTART;TZID=Europe/London:20220928T093000
DTEND;TZID=Europe/London:20220928T160000
DTSTAMP:20260421T143850
CREATED:20220920T125041Z
LAST-MODIFIED:20220920T125041Z
UID:5691-1664357400-1664380800@edpsy.org.uk
SUMMARY:Dynamic Mediated Learning Skills
DESCRIPTION:This course is aimed at educational psychologists\, teachers\, teaching assistants\, SENCOs\, parents and related professionals who are interested in learning about mediated learning and what it can offer their practice when working daily with children and young people.
URL:https://edpsy.org.uk/event/dynamic-mediated-learning-skills-09-22/
LOCATION:...
CATEGORIES:Online
ORGANIZER;CN="Dynamic Assessment UK Ltd":MAILTO:fraserlauchlan@live.com
END:VEVENT
BEGIN:VEVENT
DTSTART;TZID=Europe/London:20220929T163000
DTEND;TZID=Europe/London:20220929T170000
DTSTAMP:20260421T143850
CREATED:20220912T084909Z
LAST-MODIFIED:20220912T092309Z
UID:5604-1664469000-1664470800@edpsy.org.uk
SUMMARY:Involvement of stakeholders in reviewing EP work with Hannah Gilson and Atika Rahal
DESCRIPTION:A group of TEPs from the University of East London explored EP experiences of involving various stakeholders in the review and evaluate stage of consultative problem-solving. A mixed-methods approach was used to gather EPs’ views on the benefits and obstacles to collaborative reviewing of casework. \nThis webinar will present the methodology and findings of this research as well as providing an opportunity to reflect on current EP practice. \nThe TEPs have also written a blog for edpsy discussing why collaborative reviews are so important
URL:https://edpsy.org.uk/event/involvement-of-stakeholders-in-reviewing-ep-work-with-hannah-gilson-and-atika-rahal-09-22-2/
LOCATION:...
CATEGORIES:Online
ORGANIZER;CN="pandy":MAILTO:panndy55@gmail.com
END:VEVENT
BEGIN:VEVENT
DTSTART;TZID=Europe/London:20220930T083000
DTEND;TZID=Europe/London:20220930T173000
DTSTAMP:20260421T143850
CREATED:20220728T144317Z
LAST-MODIFIED:20220728T144317Z
UID:5348-1664526600-1664559000@edpsy.org.uk
SUMMARY:The Festival of Educational Psychology
DESCRIPTION:An online festival designed to support\, inspire and challenge. \nSee our programme and register  \nThe festival is organised in to three different tents: \n\nSupport\nInspire\nChallenge\n\nWe think (hope) we have got some incredible sessions lined up. This isn’t just sit and listen – this is about energy\, creativity and engagement. \nWe’ve also partnered with the charity AKT for the festival and a proportion of money from ticket sales will be donated to akt. akt supports lgbtq+ young people aged 16-25 in the uk who are facing or experiencing homelessness or living in a hostile environment. \nInclusion and accessibility is at the heart of this festival and so we’ve also made sure there are a range of ticket options – we wan’t everyone to be able to access this incredible day. There are standard\, reduced\, trainee/student and tickets for those experiencing financial hardship. \nGet your tickets
URL:https://edpsy.org.uk/event/the-festival-of-educational-psychology-09-22/
LOCATION:...
CATEGORIES:Festival,Online
ATTACH;FMTTYPE=image/png:https://edpsy.org.uk/wp-content/uploads/2022/07/festival-socials.png
ORGANIZER;CN="edpsy":MAILTO:festival@edpsy.org.uk
END:VEVENT
END:VCALENDAR