BEGIN:VCALENDAR
VERSION:2.0
PRODID:-//edpsy.org.uk - ECPv6.15.17//NONSGML v1.0//EN
CALSCALE:GREGORIAN
METHOD:PUBLISH
X-ORIGINAL-URL:https://edpsy.org.uk
X-WR-CALDESC:Events for edpsy.org.uk
REFRESH-INTERVAL;VALUE=DURATION:PT1H
X-Robots-Tag:noindex
X-PUBLISHED-TTL:PT1H
BEGIN:VTIMEZONE
TZID:Europe/London
BEGIN:DAYLIGHT
TZOFFSETFROM:+0000
TZOFFSETTO:+0100
TZNAME:BST
DTSTART:20220327T010000
END:DAYLIGHT
BEGIN:STANDARD
TZOFFSETFROM:+0100
TZOFFSETTO:+0000
TZNAME:GMT
DTSTART:20221030T010000
END:STANDARD
BEGIN:DAYLIGHT
TZOFFSETFROM:+0000
TZOFFSETTO:+0100
TZNAME:BST
DTSTART:20230326T010000
END:DAYLIGHT
BEGIN:STANDARD
TZOFFSETFROM:+0100
TZOFFSETTO:+0000
TZNAME:GMT
DTSTART:20231029T010000
END:STANDARD
BEGIN:DAYLIGHT
TZOFFSETFROM:+0000
TZOFFSETTO:+0100
TZNAME:BST
DTSTART:20240331T010000
END:DAYLIGHT
BEGIN:STANDARD
TZOFFSETFROM:+0100
TZOFFSETTO:+0000
TZNAME:GMT
DTSTART:20241027T010000
END:STANDARD
END:VTIMEZONE
BEGIN:VEVENT
DTSTART;VALUE=DATE:20230105
DTEND;VALUE=DATE:20230106
DTSTAMP:20260421T100153
CREATED:20221110T183642Z
LAST-MODIFIED:20221110T183642Z
UID:6024-1672876800-1672963199@edpsy.org.uk
SUMMARY:Executive functions: Connecting into practice – online course for Educational Psychologists
DESCRIPTION:This online\, self-paced course will guide you through the layers of understanding the concept of executive functions\, how we assess those skills and bring it together in a formulation that makes sense. \nThe course lead\, Dr Rebecca Ashton\, is an experienced Educational Psychologist working in neuropsychology. She has a wealth of experience working with executive functioning issues in school casework and is excited to be sharing her knowledge and understanding in this area. \nThe course is in an eLearning format which can be taken at your own pace (does not need to be competed on the above date) and used as a reference guide to come back to over time. It also includes a host of useful resources which can be utilised in your practice\, reflective activities to facilitate your learning\, and a space for the EP community to ask questions and share thoughts between us.
URL:https://edpsy.org.uk/event/executive-functions-connecting-into-practice-online-course-for-educational-psychologists-01-23/
LOCATION:...
CATEGORIES:Online
ORGANIZER;CN="EdPsychEd":MAILTO:info@edpsyched.co.uk
END:VEVENT
BEGIN:VEVENT
DTSTART;TZID=Europe/London:20230106T093000
DTEND;TZID=Europe/London:20230106T113000
DTSTAMP:20260421T100153
CREATED:20221203T141158Z
LAST-MODIFIED:20221203T141158Z
UID:6234-1672997400-1673004600@edpsy.org.uk
SUMMARY:EP Career Goals: Progressive Pathways Workshop
DESCRIPTION:Educational Psychologists\, do you want to follow your passions and really make a difference in 2023? Join my interactive career goals workshop. \nWho this workshop is for\n\nAre you ambitious\, driven and wanting to really make a difference?\nDo you want do meaningful work?\nAre you feeling stuck/frustrated and ready to find ways forward?\nAre you in bored\, under-challenged and/or in fear of stagnation?\nAre you ready to progress in your EP career?\nAre you open-minded\, reflective and looking for inspiration?\nWould you like a supportive\, structured and safe space to plan your career goals for 2023 and beyond?\n\nWhat’s this workshop about?\nAs a result of this 2-hour highly interactive\, reflective and practical workshop\, you will: \n\nDiscover what you want to ‘have\,’ ‘be’ and ‘do’ in your EP career for 2023 and beyond\nIdentify which ‘Progressive Pathways’ might you be interested in and consider how can you take steps forwards in your EP career\nHave clarity about what you want ‘more’ and ‘less’ of in your career\nUse a guided framework to begin writing your career goals for yourself in 2023 and beyond (your draft goals will continue to ‘percolate’ and take shape after the session – trust me: it’s a process)\nStart considering how to achieve your goals (your plans will also continue to percolate after the session)\n\nWorkshop format\nThis online workshop will offer a mixture of: \n\nInput and ideas from Dr. Fiona Coley (aka The Ed Psych Coach)\nGuided self-reflection activities from my ‘Progressive Pathways’ workbook (I’ll email this to you beforehand). We can turn our cameras off for reflection activities.\nSmall group discussion (breakout rooms)\, reflections and inspirational chats with other like-minded EPs\n\nThis sounds invaluable – can we do more than 2 hours!? \nTrust me\, we will achieve a lot in 2 hours and you’ll leave feeling enthused\, uplifted and inspired. If you still want more\, there’s two exciting opportunities for further support to achieve career fulfilment: \n\nAttendees will get exclusive early access to join my ‘Progressive Pathways’ group coaching program (online). This will be a small group of like-minded EPs (no more than 6). You’ll get coaching\, accountability and encouragement to actually achieve those goals. The group will be needs-led and shaped by you (we’ll agree how frequently to meet\, and when – such as monthly sessions during daytime/twilight/evening). Places are limited (6) and likely to get snapped up fast! Those who express interest will be first to be offered places.\nYou can access my bespoke 1:1 coaching packages\, in which we can reflect further and go deeper. We can explore how your character strengths and your values can be used to shape your goals. We will plan how to actually achieve your goals and you’ll get personalised accountability so you actually get there. When working with me\, I give you 100% commitment to getting you where you need to be. I am actually fully booked at the mo\, but I’ll be releasing more slots for 1:1 coaching from February 2023. Get in touch to join my waiting list.\n\nMore questions? \nGet in touch – I’d love to connect with you 🙂 \n– Drop me an email\n– WhatsApp me: 07957 025 066\n– Twitter: @fiona_coley
URL:https://edpsy.org.uk/event/ep-career-goals-progressive-pathways-workshop-01-23/
LOCATION:...
CATEGORIES:Workshop
ORGANIZER;CN="Dr Fiona Coley":MAILTO:fi@theedpsychcoach.com
END:VEVENT
BEGIN:VEVENT
DTSTART;VALUE=DATE:20230112
DTEND;VALUE=DATE:20230113
DTSTAMP:20260421T100153
CREATED:20221110T183808Z
LAST-MODIFIED:20221110T183808Z
UID:6027-1673481600-1673567999@edpsy.org.uk
SUMMARY:Literacy: A path for all – online CPD course for Educational Psychologists
DESCRIPTION:Dr Joanna Stanbridge leads this new course. She has a wealth of experience and immense enthusiasm and passion around the complex topic of literacy development and difficulties. \nFollowing a delve into literacy development\, difficulties and dyslexia\, the course progresses to build our understanding of effective assessment\, accommodation and intervention at the whole class\, small group and intensive levels of support. \nBut this is more than a literacy course; it equips us with the knowledge and skills to be part of over-arching systemic changes; working towards a system in which every child can develop strong literacy skills and provide each of them with the lifelong benefits which literacy brings.
URL:https://edpsy.org.uk/event/literacy-a-path-for-all-online-cpd-course-for-educational-psychologists-01-23/
LOCATION:...
CATEGORIES:Online
ORGANIZER;CN="EdPsychEd":MAILTO:info@edpsyched.co.uk
END:VEVENT
BEGIN:VEVENT
DTSTART;TZID=Europe/London:20230112T160000
DTEND;TZID=Europe/London:20230112T163000
DTSTAMP:20260421T100153
CREATED:20221122T144851Z
LAST-MODIFIED:20221122T144851Z
UID:6128-1673539200-1673541000@edpsy.org.uk
SUMMARY:EP Reach-Out webinar - Adolescents’ views on CBT: What works and what doesn’t? with Dr James Redburn
DESCRIPTION:CBT supports the mental health of some\, but not all\, people who experience it. I conducted a systematic review exploring how adolescents conceptualise ‘positive outcomes’ from CBT and what they consider to be the facilitators and barriers to such outcomes. In this webinar\, I will overview the results of the review and provide practice recommendations based on the views of adolescents as experts by experience.
URL:https://edpsy.org.uk/event/ep-reach-out-webinar-adolescents-views-on-cbt-what-works-and-what-doesnt-with-dr-james-redburn-01-23/
LOCATION:...
CATEGORIES:Webinar
ORGANIZER;CN="EP Reach-Out":MAILTO:epreachout1@gmail.com
END:VEVENT
BEGIN:VEVENT
DTSTART;TZID=Europe/London:20230119T153000
DTEND;TZID=Europe/London:20230119T170000
DTSTAMP:20260421T100153
CREATED:20230112T114126Z
LAST-MODIFIED:20230112T114126Z
UID:6588-1674142200-1674147600@edpsy.org.uk
SUMMARY:Reflective space in using projective techniques in EP practice
DESCRIPTION:Cost for all four sessions. \nThis is a virtual space open to qualified EPs with an interest in developing their confidence and skills in using a variety of projective techniques including drawing and storytelling techniques. There will be a particular focus on the dialogue\, therapeutic aspects of the assessment and professional experience in using these tools.\nThe session will focus on ‘case discussion’ using the ‘Thinking Together’ reflective group process (approach from the AMBIT model from the Anna Freud Centre) in sharing cases and professional practice. \nThe space will be held virtually online on: \nThursday 19th January 3.30-5pm\nThursday 16th March 3.30-5pm\nThursday 18th May 3.30-5pm\nThursday 29th June 3.30-5pm \nIdeally for the group process we invite participants to attend all four sessions.\nSingle session attendance can be considered.
URL:https://edpsy.org.uk/event/reflective-space-in-using-projective-techniques-in-ep-practice-01-23/
LOCATION:...
CATEGORIES:Online
ORGANIZER;CN="Isabella Bernardo and Sarah Rand":MAILTO:info@bernardopsychology.com
END:VEVENT
BEGIN:VEVENT
DTSTART;TZID=Europe/London:20230120T090000
DTEND;TZID=Europe/London:20230120T123000
DTSTAMP:20260421T100153
CREATED:20221213T195037Z
LAST-MODIFIED:20221213T195037Z
UID:6445-1674205200-1674217800@edpsy.org.uk
SUMMARY:Post pandemic anxiety in autistic children and young people
DESCRIPTION:The COVID-19 pandemic caused massive disruption to all our lives This has had a particular impact on the lives of Autistic children and young people (CYP). As things return to a ‘new normal’\, many educationalists and parents are reporting that there continue to be major concerns about Autistic CYP in terms of emotional well-being\, high anxiety levels\, non-attendance\, educational progress and the well-being of school staff. \nThis online Study Morning has been organised by the Educational Psychology Autism Special Interest Group (EP-ASIG). The keynote speaker is Professor Liz Pellicano\, University College London\, whose research has sought to understand and investigate the perspectives and experiences of al group of Australian children and their parents and to consider how some of the more positive aspects of the experience might inform a way forward for those working with such CYP. \nLiz will talk about research on the experiences of Autistic students and parental experiences during the pandemic and there will be an opportunity for questions.
URL:https://edpsy.org.uk/event/post-pandemic-anxiety-in-autistic-children-and-young-people-01-23/
LOCATION:...
CATEGORIES:Online
END:VEVENT
BEGIN:VEVENT
DTSTART;TZID=Europe/London:20230124T180000
DTEND;TZID=Europe/London:20230124T200000
DTSTAMP:20260421T100153
CREATED:20220909T130420Z
LAST-MODIFIED:20220909T130420Z
UID:5584-1674583200-1674590400@edpsy.org.uk
SUMMARY:Introduction to projective assessment in EP practice: House\, person\, tree technique
DESCRIPTION:Projective techniques are powerful tools to gain the voice of the child and explore aspects of their experience that may not be well understood. When carefully analysed and triangulated with other sources of information\, projective techniques can open up conversations with children\, families and staff that can facilitate deep understanding of difficulties\, and help to create change. \nThis course will provide an introduction to techniques and resources that can be easily incorporated into EP work. Attendees will have opportunities for reflective peer supervision and develop their skills in administrating\, analysing\, feeding back and reporting on projective material. \nLearning Objectives:\nTo provide an introduction to the history of the test and how it is used.\nTo explore administration of the test.\nTo develop an understanding of approaches to analysis of the test.\nTo develop confidence in the analysis of the test through practice and reflective peer supervision of a live case. Participants are encouraged to try out the test and bring material to the session. It is hoped that each person will have an opportunity to present material throughout the course.
URL:https://edpsy.org.uk/event/introduction-to-projective-assessment-in-ep-practice-house-person-tree-technique-01-23/
LOCATION:...
CATEGORIES:Online
ORGANIZER;CN="Monique Davis":MAILTO:ep.projectives@gmail.com
END:VEVENT
BEGIN:VEVENT
DTSTART;VALUE=DATE:20230125
DTEND;VALUE=DATE:20230126
DTSTAMP:20260421T100153
CREATED:20220909T131435Z
LAST-MODIFIED:20220909T131435Z
UID:5621-1674604800-1674691199@edpsy.org.uk
SUMMARY:Coaching Foundations
DESCRIPTION:Learn or refresh essential foundation principles\, skills\, and practical methods that will equip you to begin (or continue) offering coaching conversations to others about a range of themes. Suitable for anyone seeking to incorporate coaching into their work or conversations\, or for those who would value a refresher.
URL:https://edpsy.org.uk/event/coaching-foundations-01-23/
LOCATION:...
CATEGORIES:Online
ORGANIZER;CN="Mark Adams":MAILTO:mark@aspenpsychologyservices.co.uk
END:VEVENT
BEGIN:VEVENT
DTSTART;TZID=Europe/London:20230126T093000
DTEND;TZID=Europe/London:20230126T160000
DTSTAMP:20260421T100153
CREATED:20230119T115117Z
LAST-MODIFIED:20230119T115143Z
UID:6696-1674725400-1674748800@edpsy.org.uk
SUMMARY:Introduction to Circle Solutions - Free training
DESCRIPTION:This free one-day Introduction to Circle Solutions is offered by Growing Great Schools Worldwide in collaboration with the MAPP program at Anglia Ruskin University.  \nWhat is Circle Solutions?\nCircle Solutions is not a program – it is a framework and pedagogy for teaching all personal\, social\, health and sexuality programs. The ASPIRE principles of Agency\, Safety\, Positivity\, Inclusion\, Respect and Equity ensure this is a safe\, strengths-based and solution focused intervention. Circles are an ideal way of developing: \n\nself awareness\, knowledge and skills\nknowledge and understanding of others\na sense of belonging and connectedness\nresilience\, increased emotional resources and well being\ncollaborative\, ethical decision making and conflict resolution\npro-social behaviour\nproblem-solving skills\nand having fun together!\n\nYour Facilitator:\nDr Sue Roffey is a psychologist\, academic\, author\, activist and speaker. She leads the Positive Education module of the Anglia Ruskin University MSc Applied Positive Psychology programme and is also honorary associate professor at University College London and Western Sydney University.
URL:https://edpsy.org.uk/event/introduction-to-circle-solutions-01-23/
LOCATION:Anglia Ruskin University Cambridge Campus\, East Road\, Cambridge\, Cambridgeshire\, CB1 1PT
CATEGORIES:Training
ORGANIZER;CN="Growing Great School Worldwide":MAILTO:sue@sueroffey.com
END:VEVENT
BEGIN:VEVENT
DTSTART;VALUE=DATE:20230127
DTEND;VALUE=DATE:20230128
DTSTAMP:20260421T100153
CREATED:20221129T190245Z
LAST-MODIFIED:20221129T190245Z
UID:6176-1674777600-1674863999@edpsy.org.uk
SUMMARY:Improving access\, treatment and support for people with a diagnosis of Personality Disorder
DESCRIPTION:Cost plus VAT. \nThis conference focuses on improving access\, treatment and support for people living with a diagnosis of Personality Disorder.\nThis conference will enable you to:\n• Network with colleagues who are working to improve access and treatment for people living with a diagnosis of personality disorder\n• Reflect on the lived experience of someone with a diagnosis of personality disorder\n• Explore how Covid-19 has impacted on people with a diagnosis of personality disorder and how we can better support people during and beyond the pandemic\n• Learn from outstanding practice in early intervention\n• Ensure equity of access and improve support for people from diverse communities\n• Discuss the use of terminology and stigma associated with this diagnosis and how we can change attitudes and culture\n• Understand how to deliver an effective PD Treatment Pathway including treatment models and therapeutic interventions \nFollow this conference on Twitter @HCUK_Clare #PersonalityDisorder2023 \nThere is a 20% discount with code hcuk20edpsy
URL:https://edpsy.org.uk/event/improving-access-treatment-and-support-for-people-with-a-diagnosis-of-personality-disorder-01-23/
LOCATION:...
CATEGORIES:Online
ORGANIZER;CN="HCUK":MAILTO:info@hc-uk.org.uk
END:VEVENT
BEGIN:VEVENT
DTSTART;TZID=Europe/London:20230130T153000
DTEND;TZID=Europe/London:20230130T170000
DTSTAMP:20260421T100153
CREATED:20230112T113639Z
LAST-MODIFIED:20230112T113639Z
UID:6575-1675092600-1675098000@edpsy.org.uk
SUMMARY:An introduction to Working On What Works (WOWW)
DESCRIPTION:Dr David Lamb (Senior Educational Psychologist\, co-founder of Applied Psychologies and owner of WOWW Psychology Ltd) will be delivering an online session about Working On What Works (WOWW)\, an inclusive whole class behaviour intervention\, rooted in solution focused psychology. WOWW focuses on working collaboratively with teaching staff\, building relationships in the classroom and promoting positive learning behaviours\, helping to transform classroom culture. In 12 years of being an educational psychologist WOWW has been one of the most effective interventions David has delivered and after many successful case studies he now wants to train those who work in education how to become WOWW coaches to deliver the intervention themselves\, and to promote WOWW to a wider audience.
URL:https://edpsy.org.uk/event/an-introduction-to-working-on-what-works-woww-01-23/
LOCATION:...
CATEGORIES:Online
ORGANIZER;CN="Dr David Lamb":MAILTO:info@wowwpsychology.com
END:VEVENT
BEGIN:VEVENT
DTSTART;VALUE=DATE:20230131
DTEND;VALUE=DATE:20230201
DTSTAMP:20260421T100153
CREATED:20221129T185824Z
LAST-MODIFIED:20221129T185824Z
UID:6172-1675123200-1675209599@edpsy.org.uk
SUMMARY:CAMHS National Summit 2023: Transforming mental health services for children & young adults
DESCRIPTION:Cost plus VAT. \nThis national conference focuses on transforming mental health services for children and young people\, ensuring early intervention\, and developing integrated services with clear care pathways from first intervention to crisis and inpatient care. The conference will look at national developments and learning from the Covid-19 pandemic and how CAMHS has had to adapt and innovate to provide effective care\, and will also focus on suicide prevention\, inter-agency working and access to services. \nFollow this conference on Twitter @HCUK_Clare #CAMHS2023 \nThere is a 20% discount with code hcuk20edpsy
URL:https://edpsy.org.uk/event/camhs-national-summit-2023-transforming-mental-health-services-for-children-young-adults-01-23/
LOCATION:...
CATEGORIES:Online
ORGANIZER;CN="HCUK":MAILTO:info@hc-uk.org.uk
END:VEVENT
END:VCALENDAR